BEGIN:VCALENDAR
VERSION:2.0
PRODID:-//ChamberMaster//Event Calendar 2.0//EN
METHOD:PUBLISH
X-PUBLISHED-TTL:P3D
REFRESH-INTERVAL:P3D
CALSCALE:GREGORIAN
BEGIN:VEVENT
DTSTART:20170411T164500Z
DTEND:20170411T180000Z
X-MICROSOFT-CDO-ALLDAYEVENT:FALSE
SUMMARY:Network @ Noon - Following your dreams and the failures that help you get there (April 2017)
DESCRIPTION:Michael Kinney founded Plan for Adventure\, a company of outdoor and fitness professionals with a mission to help everyone achieve their fitness and adventure goals. Plan for Adventure is about sharing happiness with the world. They help people overcome that inner voice telling you "NO"\, "Can't"\, & "Impossible."  Michael will share his inspiring story of turning his passion into his business  and why it's important to support others in achieving their goals.\n\n\n\nRemember to register in advance! Registration for this event will close at 2pm on Monday\, April 10th. Walk-in's will be accepted if space allows. Thank you!\n\n\n\nDuring the lunch hour\, join YPQC to enhance your personal and professional development skills.  With a new speaker and topic each month\, you'll brush up on your skills each time while learning more about the local opportunities available to young professionals. Network\, grab a bite to eat\, and pick up some new insight at our monthly Network @ Noon\, typically held the second Tuesday of each month. Make sure to arrive early for check-in which will begin at 11:45 am.\n\n\n\n*If you need any special requirements to attend this meeting please contact \n\nJessica Webb at jwebb@quadcitieschamber.com*\n\n\n\n**Cancellation Policy - If you need to cancel your registration\, you must do so more than 72 hours prior to the event date in order to receive a full refund. \n\n\n\n*If you work for a company that is a member of the Chamber\, you are automatically a member of YPQC and attend at YPQC member prices. If your company is not a member of the Chamber\, you can join YPQC separately for $50/year. Contact Greg Aguilar at gaguilar@quadcitieschamber.com or 563.823.2659.
X-ALT-DESC;FMTTYPE=text/html:<p class="MsoNormal" style="MARGIN: 0in 0in 0pt"><span style="font-size:16px\;"><span style="font-family:arial\;">Michael Kinney founded Plan for Adventure\, a company of outdoor and fitness professionals with a mission to help everyone achieve their fitness and adventure goals. Plan for Adventure is about sharing happiness with the world. They help people overcome that inner voice telling you &ldquo\;NO&rdquo\;\, &ldquo\;Can&rsquo\;t&rdquo\;\, &amp\; &ldquo\;Impossible.&rdquo\; &nbsp\;Michael will share his inspiring story of turning his passion into his business &nbsp\;and why it&rsquo\;s important to support others in achieving their goals.<br />\n<br />\nRemember to register in advance! Registration for this event will close at 2pm on Monday\, April 10th. Walk-in&#39\;s will be accepted if space allows. Thank you!<br />\n<br />\n<span style="font-stretch:normal\;widows:1\;"><span mso-ascii-font-family:="" mso-bidi-font-family:="" mso-hansi-font-family:="" new="" times=""><span style="background-image:initial\;background-position:initial\;background-size:initial\;background-repeat:initial\;background-attachment:initial\;background-origin:initial\;background-clip:initial\;">During the lunch hour\, join&nbsp\;<span data-scayt-lang="en_US" data-scayt-word="YPQC" style="background-image:url(">YPQC</span>&nbsp\;to enhance your personal and professional development skills.&nbsp\; With a new speaker and topic each month\, you&#39\;ll brush up on your skills each time while learning more about the local opportunities available to young professionals. Network\, grab a bite to eat\, and pick up some new insight at our monthly Network @ Noon\, typically held the second Tuesday of each month.&nbsp\;Make sure to arrive early for check-in which will begin at 11:45 am.</span></span></span></span></span><br />\n<br />\n<span style="font-family: arial\; font-size: 16px\;">*If you need any special requirements to attend this meeting please contact&nbsp\;</span><br style="font-family: arial\; font-size: 16px\;" />\n<span style="font-family: arial\; font-size: 16px\;">Jessica Webb&nbsp\;at&nbsp\;</span><a href="mailto:mlovelady@quadcitieschamber.com" style="font-family: arial\; font-size: 16px\;">jwebb@quadcitieschamber.com</a>*<br />\n<br />\n<span style="font-size:16px\;"><strong><span style="font-family: arial\;">**Cancellation&nbsp\;Policy - If you need to cancel your registration\, you must do so more than 72 hours prior to the event date in order to receive a full refund.&nbsp\;</span></strong></span><br />\n<br />\n<span style="font-size:16px\;"><span style="font-family:arial\;"><span mso-ascii-font-family:="" mso-ascii-theme-font:="" mso-hansi-font-family:="" mso-hansi-theme-font:="" new="" style="background-image:initial\;background-position:initial\;background-size:initial\;background-repeat:initial\;background-attachment:initial\;background-origin:initial\;background-clip:initial\;" times=""><span style="background-image:initial\;background-position:initial\;background-size:initial\;background-repeat:initial\;background-attachment:initial\;background-origin:initial\;background-clip:initial\;">*If you work for a company that is a member of the Chamber\, you are automatically a member of&nbsp\;<span data-scayt-lang="en_US" data-scayt-word="YPQC" style="background-image:url(">YPQC</span>&nbsp\;and attend at&nbsp\;<span data-scayt-lang="en_US" data-scayt-word="YPQC" style="background-image:url(">YPQC</span>&nbsp\;member prices. If your company is not a member of the Chamber\, you can join&nbsp\;<span data-scayt-lang="en_US" data-scayt-word="YPQC" style="background-image:url(">YPQC</span>&nbsp\;separately for $50/year. Contact Greg Aguilar at&nbsp\;<a href="mailto:gaguilar@quadcitieschamber.com"><span data-scayt-lang="en_US" data-scayt-word="gaguilar" style="background-image:url(">gaguilar</span>@quadcitieschamber.com</a>&nbsp\;or 563.823.2659.</span></span></span></span></p>\n
LOCATION:Boys & Girls Club of the Mississippi Valley - Teen Center 1122 5th Avenue Moline\, Illinois
UID:e.2843.4515
SEQUENCE:3
DTSTAMP:20260424T061653Z
URL:https://member.quadcitieschamber.com/events/details/network-noon-following-your-dreams-and-the-failures-that-help-you-get-there-april-2017-4515
END:VEVENT

END:VCALENDAR
