BEGIN:VCALENDAR
VERSION:2.0
PRODID:-//ChamberMaster//Event Calendar 2.0//EN
METHOD:PUBLISH
X-PUBLISHED-TTL:P3D
REFRESH-INTERVAL:P3D
CALSCALE:GREGORIAN
BEGIN:VEVENT
DTSTART:20130409T164500Z
DTEND:20130409T180000Z
X-MICROSOFT-CDO-ALLDAYEVENT:FALSE
SUMMARY:Network @ Noon: From The Quad Cities to L.A.
DESCRIPTION:Fresh off a flight from Los Angeles\, join Scott Beck\, founder of Bluebox Limited Films\, as he takes you on a journey through the challenges and rewards associated with entrepreneurship and the development of his film-making company. A Quad Cities native\, Scott will share his story and give advice for young professionals looking to create their own business. Location: River Music Experience (129 N. Main Street\, Davenport)Time: Noon-1:00 p.m.Cost: $15 for members\; $20 non-members 48 Hour Cancellation NoticeA cancellation of registration must be received 48 hours or more before an event to receive a refund.  Participant substitutions are accepted at no extra charge.  For questions regarding this event\, please contact Anne Spoden at 563.823.2659 or aspoden@QuadCitiesChamber.com. Click here to see who has already registered for this event!
X-ALT-DESC;FMTTYPE=text/html:<FONT face=Calibri><P style="MARGIN: 0in 0in 0pt" class=MsoNormal><I style="mso-bidi-font-style: normal"><SPAN style="mso-bidi-font-size: 10.0pt"></SPAN></I></P><P style="MARGIN: 0in 0in 0pt" class=MsoNormal><SPAN style="BACKGROUND: white\; mso-bidi-font-size: 10.0pt\; mso-bidi-font-family: Arial"><FONT face=Arial>Fresh off a flight from Los Angeles\, join Scott Beck\, founder of Bluebox Limited Films\, as he takes you on a journey through the challenges and rewards associated with entrepreneurship and the development of his film-making company. A Quad Cities native\, Scott will share his story and give advice for young professionals looking to create their own business.</FONT></SPAN></P><P style="MARGIN: 0in 0in 0pt" class=MsoNormal><SPAN style="BACKGROUND: white\; mso-bidi-font-size: 10.0pt\; mso-bidi-font-family: Arial"><?xml:namespace prefix = o ns = "urn:schemas-microsoft-com:office:office" /><o:p></o:p></SPAN><FONT face=Arial>&nbsp\;</FONT></P><P style="MARGIN: 0in 0in 0pt" class=MsoNormal></FONT><FONT face=Arial><STRONG>Location:</STRONG> River Music Experience (129 N. Main Street\, Davenport)<o:p></o:p></FONT></P><P style="MARGIN: 0in 0in 0pt" class=MsoNormal><FONT face=Arial><B style="mso-bidi-font-weight: normal">Time:</B> Noon-1:00 p.m.<o:p></o:p></FONT></P><P style="MARGIN: 0in 0in 0pt" class=MsoNormal><FONT face=Arial><B style="mso-bidi-font-weight: normal">Cost:</B> $15 for members\; $20 non-members<o:p></o:p></FONT></P><P style="MARGIN: 0in 0in 0pt" class=MsoNormal><o:p><FONT face=Arial>&nbsp\;</FONT></o:p></P><o:p><SPAN style="FONT-FAMILY: 'Arial'\,'sans-serif'\; FONT-SIZE: 12pt"><SPAN style="FONT-FAMILY: 'Arial'\,'sans-serif'\; FONT-SIZE: 12pt"><SPAN style="FONT-FAMILY: 'Arial'\,'sans-serif'\; FONT-SIZE: 10pt\; mso-fareast-font-family: 'Times New Roman'"><SPAN style="COLOR: #0f0f0f\; FONT-SIZE: 10pt\; mso-bidi-font-family: 'Times New Roman'\; mso-fareast-font-family: 'Times New Roman'"><FONT face=Calibri><P style="TEXT-ALIGN: center\; MARGIN: 0in 0in 0pt" class=MsoNormal align=center><SPAN style="COLOR: #0f0f0f\; FONT-SIZE: 10pt\; mso-ascii-font-family: Calibri\; mso-ascii-theme-font: minor-latin\; mso-hansi-font-family: Calibri\; mso-hansi-theme-font: minor-latin"><U>48 Hour Cancellation Notice<o:p></o:p></U></SPAN></P><P style="TEXT-ALIGN: center\; MARGIN: 0in 0in 0pt" class=MsoNormal align=center><SPAN style="COLOR: #0f0f0f\; FONT-SIZE: 10pt\; mso-ascii-font-family: Calibri\; mso-ascii-theme-font: minor-latin\; mso-hansi-font-family: Calibri\; mso-hansi-theme-font: minor-latin">A cancellation of registration must be received 48 hours or more before an event to receive a refund.&nbsp\; <o:p></o:p></SPAN></P><P style="TEXT-ALIGN: center\; MARGIN: 0in 0in 0pt" class=MsoNormal align=center><SPAN style="COLOR: #333333\; FONT-SIZE: 10pt\; mso-bidi-font-family: Arial\; mso-ascii-font-family: Calibri\; mso-ascii-theme-font: minor-latin\; mso-hansi-font-family: Calibri\; mso-hansi-theme-font: minor-latin">Participant substitutions are accepted at no extra charge.</SPAN><SPAN style="COLOR: black\; FONT-SIZE: 10pt\; mso-ascii-font-family: Calibri\; mso-ascii-theme-font: minor-latin\; mso-hansi-font-family: Calibri\; mso-hansi-theme-font: minor-latin"><o:p></o:p></SPAN></P><P style="TEXT-ALIGN: center\; LINE-HEIGHT: normal\; MARGIN: 0in 0in 0pt" class=MsoNormal align=center></FONT></SPAN><SPAN style="LINE-HEIGHT: 115%\; FONT-SIZE: 10pt"><o:p><FONT color=#000000 face=Calibri></FONT></o:p></SPAN><FONT color=#333333>&nbsp\;</FONT></P><P style="TEXT-ALIGN: center\; LINE-HEIGHT: normal\; MARGIN: 0in 0in 0pt" class=MsoNormal align=center><SPAN style="LINE-HEIGHT: 115%\; FONT-SIZE: 10pt"><o:p>&nbsp\;</o:p></SPAN></P><P style="TEXT-ALIGN: center\; MARGIN: 0in 0in 10pt" class=MsoNormal align=center><SPAN style="LINE-HEIGHT: 115%\; FONT-SIZE: 10pt"><FONT color=#000000 face=Calibri>For questions regarding this event\, please contact Anne Spoden at 563.823.2659 or </FONT><A href="mailto:jaspoden@QuadCitiesChamber.com"><FONT face=Calibri>aspoden@QuadCitiesChamber.com</FONT></A><FONT color=#000000><FONT face=Calibri>.<o:p></o:p></FONT></FONT></SPAN></P><P style="MARGIN: 0in 0in 0pt"></SPAN></SPAN></SPAN>&nbsp\;</P><SPAN style="COLOR: #333333\; FONT-SIZE: 14pt"><SPAN style="FONT-FAMILY: 'Arial'\,'sans-serif'\; FONT-SIZE: 12pt"><SPAN style="COLOR: #333333"><FONT size=2 face="Times New Roman"></FONT></SPAN></SPAN></SPAN></SPAN><SPAN style="COLOR: #333333"><P style="MARGIN: 0in 0in 0pt" align=center><SPAN style="COLOR: #333333"></SPAN><SPAN style="FONT-FAMILY: 'Arial'\,'sans-serif'\; FONT-SIZE: 12pt"><SPAN style="FONT-FAMILY: 'Arial'\,'sans-serif'\; FONT-SIZE: 12pt"><SPAN style="FONT-FAMILY: 'Arial'\,'sans-serif'\; FONT-SIZE: 10pt\; mso-fareast-font-family: 'Times New Roman'"><A style="COLOR: blue\; TEXT-DECORATION: underline" title="" dataFld=0:0 href="http://events.quadcitieschamber.com/sbaweb/common/attendees.asp?eventcode=NOON 04/13" target=_self><SPAN style="COLOR: windowtext"><FONT face="Times New Roman">Click here</FONT></SPAN></A><FONT color=#000000><FONT face="Times New Roman"> to see who has already registered for this event! <o:p></o:p></FONT></FONT></SPAN></P></SPAN></SPAN><o:p></o:p></SPAN></o:p>
LOCATION:River Music Experience129 N. Main St. Davenport\, IA 52801
UID:e.2843.540
SEQUENCE:3
DTSTAMP:20260421T105016Z
URL:https://member.quadcitieschamber.com/events/details/network-noon-from-the-quad-cities-to-l-a-04-09-2013-540
END:VEVENT

END:VCALENDAR
