BEGIN:VCALENDAR
VERSION:2.0
PRODID:-//ChamberMaster//Event Calendar 2.0//EN
METHOD:PUBLISH
X-PUBLISHED-TTL:P3D
REFRESH-INTERVAL:P3D
CALSCALE:GREGORIAN
BEGIN:VEVENT
DTSTART:20120710T164500Z
DTEND:20120710T180000Z
X-MICROSOFT-CDO-ALLDAYEVENT:FALSE
SUMMARY:Network @ Noon ft. Nicole Martin - July 2012
DESCRIPTION:Join The Network: Young Professionals of the Quad Cities for our July Network @ Noon event at The Outing Club. Nicole Martin of Dale Carnegie Training will be our wonderful presenter. Space is limited so reserve your seat today. This event is open to the entire Quad Cities Chamber membership\, not just young professionals! This event is sponsored by The Outing Club
X-ALT-DESC;FMTTYPE=text/html:<DIV><P style="MARGIN: 0in 0in 0pt" class=MsoNormal><SPAN style="FONT-FAMILY: 'Arial'\,'sans-serif'\; FONT-SIZE: 10pt\; mso-fareast-font-family: 'Times New Roman'">Join The Network: Young Professionals of the Quad Cities for our July Network @ Noon event at The Outing Club.&nbsp\;Nicole Martin of Dale Carnegie Training will be&nbsp\;our wonderful presenter. Space is limited so reserve your seat today.</SPAN></P><P style="MARGIN: 0in 0in 0pt" class=MsoNormal><SPAN style="FONT-FAMILY: 'Arial'\,'sans-serif'\; FONT-SIZE: 10pt\; mso-fareast-font-family: 'Times New Roman'"></SPAN><SPAN style="FONT-FAMILY: 'Arial'\,'sans-serif'\; FONT-SIZE: 10pt\; mso-fareast-font-family: 'Times New Roman'"></SPAN>&nbsp\;</P><P style="MARGIN: 0in 0in 0pt" class=MsoNormal><SPAN style="FONT-FAMILY: 'Arial'\,'sans-serif'\; FONT-SIZE: 10pt\; mso-fareast-font-family: 'Times New Roman'">This event is open to the entire Quad Cities Chamber membership\, not just young professionals!</SPAN></P><P style="MARGIN: 0in 0in 0pt" class=MsoNormal><SPAN style="FONT-FAMILY: 'Arial'\,'sans-serif'\; FONT-SIZE: 10pt\; mso-fareast-font-family: 'Times New Roman'"></SPAN><SPAN style="FONT-FAMILY: 'Arial'\,'sans-serif'\; FONT-SIZE: 10pt\; mso-fareast-font-family: 'Times New Roman'">&nbsp\;<?xml:namespace prefix = o ns = "urn:schemas-microsoft-com:office:office" /><o:p></o:p></SPAN></P><P style="MARGIN: 0in 0in 0pt" class=MsoNormal><SPAN style="FONT-FAMILY: 'Arial'\,'sans-serif'\; FONT-SIZE: 10pt\; mso-fareast-font-family: 'Times New Roman'">This event is sponsored by The Outing Club</SPAN></P><P style="MARGIN: 0in 0in 0pt" class=MsoNormal><SPAN style="FONT-FAMILY: 'Arial'\,'sans-serif'\; FONT-SIZE: 10pt\; mso-fareast-font-family: 'Times New Roman'"></SPAN><SPAN style="FONT-FAMILY: 'Arial'\,'sans-serif'\; FONT-SIZE: 10pt\; mso-fareast-font-family: 'Times New Roman'"></SPAN>&nbsp\;</P></DIV>
LOCATION:The Outing Club2109 Brady St. Davenport\, IA 52803
UID:e.2843.275
SEQUENCE:3
DTSTAMP:20260421T215947Z
URL:https://member.quadcitieschamber.com/events/details/network-noon-ft-nicole-martin-july-2012-07-10-2012-275
END:VEVENT

END:VCALENDAR
