BEGIN:VCALENDAR
VERSION:2.0
PRODID:-//ChamberMaster//Event Calendar 2.0//EN
METHOD:PUBLISH
X-PUBLISHED-TTL:P3D
REFRESH-INTERVAL:P3D
CALSCALE:GREGORIAN
BEGIN:VEVENT
DTSTART:20120214T174500Z
DTEND:20120214T190000Z
X-MICROSOFT-CDO-ALLDAYEVENT:FALSE
SUMMARY:Network @ Noon - Getting What You Want: Strategically Planning Your Career
DESCRIPTION:Do you ever wonder where your career (or life) is headed? Do you feel like a passenger as your career takes off in its own direction? Learn how you can take control of your career (and your life) using many of the same principles businesses use to plan their future. We will discuss how you can decide what is most important to you\, define your ideal future\, inventory your strengths and weaknesses\, and develop a plan that harnesses your strengths while minimizing those weakness to put you in the driver's seat to achieve your career (and life) goals.  Join us for this Network @ Noon program with Linda Wastyn\, President of Wastyn & Associates\, a consulting company that focuses on strategic planning\, grant development\, and fundraising! Linda also teaches classes in strategic planning\, strategic communication\, and organizational theory as an adjunct instructor in the Masters of Organizational Leadership Program at St. Ambrose. This event is sponsored by Genesis at Work
X-ALT-DESC;FMTTYPE=text/html:<DIV><P>Do you ever wonder where your career (or life) is headed? Do you feel like a passenger as your career takes off in its own direction? Learn how you can take control of your career (and your life) using many of the same principles businesses use to plan their future. We will discuss how you can decide what is most important to you\, define your ideal future\, inventory your strengths and weaknesses\, and develop a plan that harnesses your strengths while&nbsp\;minimizing those weakness to put you in the driver's seat to achieve your career (and life) goals. </P><P>&nbsp\;</P><P>Join us for this Network @ Noon program with Linda Wastyn\, President of Wastyn &amp\; Associates\, a consulting company that focuses on strategic planning\, grant development\, and fundraising! Linda also teaches classes in strategic planning\, strategic communication\, and organizational theory as an adjunct instructor in the Masters of Organizational Leadership Program at St. Ambrose.</P><P>&nbsp\;</P><DIV>This event is sponsored by Genesis at Work</DIV></DIV>
LOCATION:HomeRidge Inn & Suites909 Middle Rd. Bettendorf\, IA 52722
UID:e.2843.271
SEQUENCE:3
DTSTAMP:20260422T080955Z
URL:https://member.quadcitieschamber.com/events/details/network-noon-getting-what-you-want-strategically-planning-your-career-02-14-2012-271
END:VEVENT

END:VCALENDAR
