BEGIN:VCALENDAR
VERSION:2.0
PRODID:-//ChamberMaster//Event Calendar 2.0//EN
METHOD:PUBLISH
X-PUBLISHED-TTL:P3D
REFRESH-INTERVAL:P3D
CALSCALE:GREGORIAN
BEGIN:VEVENT
DTSTART:20110913T164500Z
DTEND:20110913T180000Z
X-MICROSOFT-CDO-ALLDAYEVENT:FALSE
SUMMARY:Network @ Noon: Graduate Schooling
DESCRIPTION:Join us for this Network @ Noon program about graduate schooling options! We'll have a panel of professionals from different schools that offer graduate degrees to talk about the benefits of higher education\, how to finance your education\, and the return on investment for you! Your questions are welcome at this event as well! This event is sponsored by Modern Woodmen of America
X-ALT-DESC;FMTTYPE=text/html:<DIV>Join us for this Network @ Noon program about graduate schooling options! We'll have a panel of professionals from different schools that offer graduate degrees to talk about the benefits of higher education\, how to finance your education\,&nbsp\;and the return on investment for you! Your questions are welcome at this event as well!</DIV><DIV>&nbsp\;</DIV><DIV>This event is sponsored by Modern Woodmen of America</DIV>
LOCATION:Modern Woodmen Park209 S. Gaines Street Davenport\, IA
UID:e.2843.192
SEQUENCE:3
DTSTAMP:20260422T161812Z
URL:https://member.quadcitieschamber.com/events/details/network-noon-graduate-schooling-09-13-2011-192
END:VEVENT

END:VCALENDAR
