BEGIN:VCALENDAR
VERSION:2.0
PRODID:-//ChamberMaster//Event Calendar 2.0//EN
METHOD:PUBLISH
X-PUBLISHED-TTL:P3D
REFRESH-INTERVAL:P3D
CALSCALE:GREGORIAN
BEGIN:VEVENT
DTSTART:20130813T164500Z
DTEND:20130813T180000Z
X-MICROSOFT-CDO-ALLDAYEVENT:FALSE
SUMMARY:Network @ Noon: How Can I Misunderstand you Let me Count the Ways!
DESCRIPTION:Successful collaboration takes place when teams use positive communication and constructive feedback skills. Join Laurie Johnson\, MRA\, for an engaging\, interactive session on how to identify components of effective communication. Laurie brings over 15 years of experience helping companies elevate the performance of their employees and improve productivity. Gain valuable listening skills and learn the ability to give and receive feedback.   This program is sponsored by R.I.A. Federal Credit Union.
X-ALT-DESC;FMTTYPE=text/html:<P style="MARGIN: 0in 0in 0pt" class=MsoNormal><FONT size=+0><SPAN style="mso-bidi-font-size: 10.0pt">Successful collaboration takes place when teams use positive communication and constructive feedback skills. Join Laurie Johnson\, MRA\, for an engaging\, interactive session on how to identify components of effective communication. <SPAN style="BACKGROUND: white">Laurie brings over 15 years of experience helping companies elevate the performance of their employees and improve productivity. Gain valuable listening skills and learn the ability to give and receive feedback.<SPAN style="mso-spacerun: yes">&nbsp\; </SPAN></SPAN></SPAN><SPAN style="mso-bidi-font-size: 10.0pt\; mso-bidi-font-family: Tahoma"><?xml:namespace prefix = o ns = "urn:schemas-microsoft-com:office:office" /><o:p></o:p></SPAN></FONT></P><DIV><FONT size=+0></FONT>&nbsp\;</DIV><DIV><FONT size=+0>This program is sponsored by R.I.A. Federal Credit Union. </FONT></DIV>
LOCATION:Putnam Museum1717 W 12th Street Davenport\, IA 52804
UID:e.2843.621
SEQUENCE:3
DTSTAMP:20260421T170355Z
URL:https://member.quadcitieschamber.com/events/details/network-noon-how-can-i-misunderstand-you-let-me-count-the-ways-08-13-2013-621
END:VEVENT

END:VCALENDAR
