BEGIN:VCALENDAR
VERSION:2.0
PRODID:-//ChamberMaster//Event Calendar 2.0//EN
METHOD:PUBLISH
X-PUBLISHED-TTL:P3D
REFRESH-INTERVAL:P3D
CALSCALE:GREGORIAN
BEGIN:VEVENT
DTSTART:20121009T164500Z
DTEND:20121009T180000Z
X-MICROSOFT-CDO-ALLDAYEVENT:FALSE
SUMMARY:Network @ Noon - Increase the Likelihood that Someone Will Say\, ''YES!''
DESCRIPTION:Based on the research and work of influence expert Dr. Robert Caldini\, this session will cover the topics of influence and negotiation. Whether it’s your customer\, boss\, or spouse\, learn to create a psychological setting that increases the likelihood that someone will say\, “YES!” Ginny Wilson-Peters of Integrity Integrated will discuss the six principles of influence (how to do it) and the nine common influence tactics used in negotiations. This event is sponsored by DHCU Community Credit Union. Click here to see who has already registered for this event!
X-ALT-DESC;FMTTYPE=text/html:<DIV><SPAN style="FONT-FAMILY: 'Arial'\,'sans-serif'\; FONT-SIZE: 10pt\; mso-fareast-font-family: 'Times New Roman'"><P style="MARGIN: 0in 0in 0pt" class=MsoNormal><SPAN style="FONT-FAMILY: 'Verdana'\,'sans-serif'\; COLOR: #1f497d\; FONT-SIZE: 10pt"><FONT color=#0f0f0f face=Tahoma>Based on the research and work of influence expert Dr. Robert Caldini\, this session will cover the topics of influence and negotiation. Whether it’s your customer\, boss\, or spouse\, learn to create a psychological setting that increases the likelihood that someone will say\, “YES!” Ginny Wilson-Peters of Integrity Integrated will discuss the six principles of influence (how to do it) and the nine common influence tactics used in negotiations.</FONT></SPAN></P><P style="MARGIN: 0in 0in 0pt" class=MsoNormal></SPAN><SPAN style="FONT-FAMILY: 'Arial'\,'sans-serif'\; FONT-SIZE: 10pt\; mso-fareast-font-family: 'Times New Roman'"><FONT face=Tahoma><FONT color=#0f0f0f>&nbsp\;<?xml:namespace prefix = o ns = "urn:schemas-microsoft-com:office:office" /><o:p></o:p></FONT></FONT></SPAN></P><P style="MARGIN: 0in 0in 0pt" class=MsoNormal><SPAN style="FONT-FAMILY: 'Arial'\,'sans-serif'\; FONT-SIZE: 10pt\; mso-fareast-font-family: 'Times New Roman'"><FONT color=#0f0f0f face=Tahoma>This event is sponsored by DHCU Community Credit Union.</FONT></SPAN></P><P style="MARGIN: 0in 0in 0pt" class=MsoNormal><FONT face=Tahoma><FONT color=#0f0f0f><FONT size=2><SPAN style="FONT-FAMILY: 'Arial'\,'sans-serif'\; FONT-SIZE: 10pt\; mso-fareast-font-family: 'Times New Roman'"></SPAN><SPAN style="FONT-FAMILY: 'Arial'\,'sans-serif'\; FONT-SIZE: 10pt\; mso-fareast-font-family: 'Times New Roman'"></SPAN></FONT></FONT></FONT>&nbsp\;</P><P style="MARGIN: 0in 0in 0pt\; mso-margin-top-alt: auto\; mso-margin-bottom-alt: auto" class=MsoNormal><SPAN style="FONT-FAMILY: 'Arial'\,'sans-serif'\; FONT-SIZE: 10pt\; mso-fareast-font-family: 'Times New Roman'"><A style="COLOR: blue\; TEXT-DECORATION: underline" title="" dataFld=0:0 href="http://events.quadcitieschamber.com/sbaweb/common/attendees.asp?eventcode=NOON 10/09" target=_self><SPAN style="COLOR: windowtext"><FONT color=#0f0f0f face=Tahoma>Click here</FONT></SPAN></A><FONT face=Tahoma><FONT color=#0f0f0f> to see who has already registered for this event! <o:p></o:p></FONT></FONT></SPAN></P></DIV>
LOCATION:DHCU Community Credit Union1900 52nd Avenue Moline\, IL 61265
UID:e.2843.278
SEQUENCE:3
DTSTAMP:20260421T170108Z
URL:https://member.quadcitieschamber.com/events/details/network-noon-increase-the-likelihood-that-someone-will-say-yes-10-09-2012-278
END:VEVENT

END:VCALENDAR
