BEGIN:VCALENDAR
VERSION:2.0
PRODID:-//ChamberMaster//Event Calendar 2.0//EN
METHOD:PUBLISH
X-PUBLISHED-TTL:P3D
REFRESH-INTERVAL:P3D
CALSCALE:GREGORIAN
BEGIN:VEVENT
DTSTART:20120313T164500Z
DTEND:20120313T180000Z
X-MICROSOFT-CDO-ALLDAYEVENT:FALSE
SUMMARY:Network @ Noon - Leadership Development & Public Speaking
DESCRIPTION:Join us for this Network @ Noon program about leadership development & public speaking! We'll have a guest speaker from the Toastmasters to heighten your skills when speaking during business meetings\, events and to large groups. Your questions are welcome at this event as well! This event is sponsored by Scott Community College.
X-ALT-DESC;FMTTYPE=text/html:<DIV>Join us for this Network @ Noon program about leadership development &amp\; public speaking! We'll have a&nbsp\;guest speaker from the Toastmasters to heighten your skills when speaking during business meetings\, events and to large groups.&nbsp\;Your questions are welcome at this event as well!</DIV><DIV>&nbsp\;</DIV><DIV>This event is sponsored by Scott Community College.</DIV>
LOCATION:Kahl Education Center326 W. 3rd St. Davenport\, IA 52801
UID:e.2843.272
SEQUENCE:3
DTSTAMP:20260420T083144Z
URL:https://member.quadcitieschamber.com/events/details/network-noon-leadership-development-public-speaking-03-13-2012-272
END:VEVENT

END:VCALENDAR
