BEGIN:VCALENDAR
VERSION:2.0
PRODID:-//ChamberMaster//Event Calendar 2.0//EN
METHOD:PUBLISH
X-PUBLISHED-TTL:P3D
REFRESH-INTERVAL:P3D
CALSCALE:GREGORIAN
BEGIN:VEVENT
DTSTART:20140114T174500Z
DTEND:20140114T190000Z
X-MICROSOFT-CDO-ALLDAYEVENT:FALSE
SUMMARY:Network @ Noon: Leadership for Changing Times
DESCRIPTION:Join us for Network @ Noon for a conversation that emphasizes that as our communities and organizations confront changing times so must our conceptions of leadership.  Instead of thinking of leadership as the responsibility of those with positions or authority\, Dr. Ron Wastyn makes the case that what we need today are collaborative relationships among people seeking to influence others to change.  This event is sponsored by R.I.A. Federal Credit Union.
X-ALT-DESC;FMTTYPE=text/html:<P style="MARGIN: 0in 0in 0pt" class=MsoNormal>Join us for Network @ Noon for a conversation that emphasizes that as our communities and organizations confront changing times so must our conceptions of leadership. &nbsp\;Instead of thinking of leadership as the responsibility of those with positions or authority\, Dr. Ron Wastyn makes the case that what we need today are collaborative relationships among people seeking to influence others to change.&nbsp\;</P><DIV><P style="MARGIN: 0in 0in 0pt" class=MsoNormal><SPAN style="mso-bidi-font-size: 10.0pt"></SPAN>&nbsp\;</P><P style="MARGIN: 0in 0in 0pt" class=MsoNormal><SPAN style="mso-bidi-font-size: 10.0pt">This event is sponsored by R.I.A. Federal Credit Union. </SPAN></P></DIV>
LOCATION:Radisson QC Plaza Hotel111 E. 2nd St. Davenport\, IA 52801
UID:e.2843.633
SEQUENCE:3
DTSTAMP:20260422T013004Z
URL:https://member.quadcitieschamber.com/events/details/network-noon-leadership-for-changing-times-01-14-2014-633
END:VEVENT

END:VCALENDAR
