BEGIN:VCALENDAR
VERSION:2.0
PRODID:-//ChamberMaster//Event Calendar 2.0//EN
METHOD:PUBLISH
X-PUBLISHED-TTL:P3D
REFRESH-INTERVAL:P3D
CALSCALE:GREGORIAN
BEGIN:VEVENT
DTSTART:20131210T174500Z
DTEND:20131210T190000Z
X-MICROSOFT-CDO-ALLDAYEVENT:FALSE
SUMMARY:Network @ Noon: Merry\, Meet & Mingle
DESCRIPTION:Link up with young professionals from across the region at the annual Merry\, Meet & Mingle event – a time of celebration and fun during Network @ Noon. Join in the fun with games\, outstanding prizes and networking over the lunch hour. Bring an item for the Davenport Jaycees Santa program and get entered to win a special prize!   This event is sponsored by Estes Construction. Items needed for Jaycee Santa:·         Shampoo·         Feminine products·         Comb/brush·         Toothpaste/tooth brush·         Detergent ·         Dryer sheets·         deodorant
X-ALT-DESC;FMTTYPE=text/html:<P style="MARGIN: 0in 0in 0pt" class=MsoNormal><SPAN style="mso-bidi-font-size: 10.0pt"><FONT face=Arial><FONT color=#000000>Link up with young professionals from across the region at the annual Merry\, Meet &amp\; Mingle event – a time of celebration and fun during Network @ Noon. Join in the fun with games\, outstanding prizes and networking over the lunch hour. Bring an item for the Davenport Jaycees Santa program and get entered to win a special prize! <SPAN style="COLOR: #1f497d"><SPAN style="mso-spacerun: yes">&nbsp\;</SPAN><?xml:namespace prefix = o ns = "urn:schemas-microsoft-com:office:office" /><o:p></o:p></SPAN></FONT></FONT></SPAN></P><DIV><FONT color=#000000 face=Arial></FONT>&nbsp\;</DIV><DIV><FONT color=#000000 face=Arial>This event is sponsored by Estes Construction.</FONT></DIV><DIV><FONT color=#000000 face=Arial></FONT>&nbsp\;</DIV><DIV><FONT color=#000000 face=Arial>Items needed for Jaycee Santa:</FONT></DIV><DIV><P style="TEXT-INDENT: -0.25in\; MARGIN: 0in 0in 0pt 0.5in" class=MsoListParagraph><FONT face=Arial><FONT color=#000000><SPAN style="FONT-FAMILY: Symbol\; COLOR: #1f497d">·</SPAN><FONT size=3><SPAN style="FONT-FAMILY: 'Times New Roman'\,'serif'\; COLOR: #1f497d\; FONT-SIZE: 7pt">&nbsp\;&nbsp\;&nbsp\;&nbsp\;&nbsp\;&nbsp\;&nbsp\;&nbsp\; </SPAN><SPAN style="COLOR: #1f497d">Shampoo</SPAN></FONT></FONT></FONT></P><P style="TEXT-INDENT: -0.25in\; MARGIN: 0in 0in 0pt 0.5in" class=MsoListParagraph><FONT face=Arial><FONT color=#000000><SPAN style="FONT-FAMILY: Symbol\; COLOR: #1f497d">·</SPAN><FONT size=3><SPAN style="FONT-FAMILY: 'Times New Roman'\,'serif'\; COLOR: #1f497d\; FONT-SIZE: 7pt">&nbsp\;&nbsp\;&nbsp\;&nbsp\;&nbsp\;&nbsp\;&nbsp\;&nbsp\; </SPAN><SPAN style="COLOR: #1f497d">Feminine products</SPAN></FONT></FONT></FONT></P><P style="TEXT-INDENT: -0.25in\; MARGIN: 0in 0in 0pt 0.5in" class=MsoListParagraph><FONT face=Arial><FONT color=#000000><SPAN style="FONT-FAMILY: Symbol\; COLOR: #1f497d">·</SPAN><FONT size=3><SPAN style="FONT-FAMILY: 'Times New Roman'\,'serif'\; COLOR: #1f497d\; FONT-SIZE: 7pt">&nbsp\;&nbsp\;&nbsp\;&nbsp\;&nbsp\;&nbsp\;&nbsp\;&nbsp\; </SPAN><SPAN style="COLOR: #1f497d">Comb/brush</SPAN></FONT></FONT></FONT></P><P style="TEXT-INDENT: -0.25in\; MARGIN: 0in 0in 0pt 0.5in" class=MsoListParagraph><FONT face=Arial><FONT color=#000000><SPAN style="FONT-FAMILY: Symbol\; COLOR: #1f497d">·</SPAN><FONT size=3><SPAN style="FONT-FAMILY: 'Times New Roman'\,'serif'\; COLOR: #1f497d\; FONT-SIZE: 7pt">&nbsp\;&nbsp\;&nbsp\;&nbsp\;&nbsp\;&nbsp\;&nbsp\;&nbsp\; </SPAN><SPAN style="COLOR: #1f497d">Toothpaste/tooth brush</SPAN></FONT></FONT></FONT></P><P style="TEXT-INDENT: -0.25in\; MARGIN: 0in 0in 0pt 0.5in" class=MsoListParagraph><FONT face=Arial><FONT color=#000000><SPAN style="FONT-FAMILY: Symbol\; COLOR: #1f497d">·</SPAN><FONT size=3><SPAN style="FONT-FAMILY: 'Times New Roman'\,'serif'\; COLOR: #1f497d\; FONT-SIZE: 7pt">&nbsp\;&nbsp\;&nbsp\;&nbsp\;&nbsp\;&nbsp\;&nbsp\;&nbsp\; </SPAN><SPAN style="COLOR: #1f497d">Detergent </SPAN></FONT></FONT></FONT></P><P style="TEXT-INDENT: -0.25in\; MARGIN: 0in 0in 0pt 0.5in" class=MsoListParagraph><FONT face=Arial><FONT color=#000000><SPAN style="FONT-FAMILY: Symbol\; COLOR: #1f497d">·</SPAN><FONT size=3><SPAN style="FONT-FAMILY: 'Times New Roman'\,'serif'\; COLOR: #1f497d\; FONT-SIZE: 7pt">&nbsp\;&nbsp\;&nbsp\;&nbsp\;&nbsp\;&nbsp\;&nbsp\;&nbsp\; </SPAN><SPAN style="COLOR: #1f497d">Dryer sheets</SPAN></FONT></FONT></FONT></P><P style="TEXT-INDENT: -0.25in\; MARGIN: 0in 0in 0pt 0.5in" class=MsoListParagraph><FONT face=Arial><FONT color=#000000><SPAN style="FONT-FAMILY: Symbol\; COLOR: #1f497d">·</SPAN><FONT size=3><SPAN style="FONT-FAMILY: 'Times New Roman'\,'serif'\; COLOR: #1f497d\; FONT-SIZE: 7pt">&nbsp\;&nbsp\;&nbsp\;&nbsp\;&nbsp\;&nbsp\;&nbsp\;&nbsp\; </SPAN><SPAN style="COLOR: #1f497d">deodorant</SPAN></FONT></FONT></FONT></P></DIV>
LOCATION:Isle Casino Hotel Bettendorf1777 Isle Parkway Bettendorf\, IA 52722
UID:e.2843.748
SEQUENCE:3
DTSTAMP:20260422T013003Z
URL:https://member.quadcitieschamber.com/events/details/network-noon-merry-meet-mingle-12-10-2013-748
END:VEVENT

END:VCALENDAR
