BEGIN:VCALENDAR
VERSION:2.0
PRODID:-//ChamberMaster//Event Calendar 2.0//EN
METHOD:PUBLISH
X-PUBLISHED-TTL:P3D
REFRESH-INTERVAL:P3D
CALSCALE:GREGORIAN
BEGIN:VEVENT
DTSTART:20121211T174500Z
DTEND:20121211T190000Z
X-MICROSOFT-CDO-ALLDAYEVENT:FALSE
SUMMARY:Network @ Noon - Merry\, Meet & Mingle
DESCRIPTION:Join The Network for our annual Merry\, Meet & Mingle. A tradition every December\, mingle with dozens of YPs while experiencing the fun at CASI (a Network YP Impact Partner). Bring an item for CASI’s “Be a Santa to a Senior” program and earn entry for extra prizes! This event is sponsored by Estes Construction. Click here to see who has already registered for this event!  The Top Ten items that CASI is in need of are:Shampoo/Conditioner\nBody soap\nSlippers/Socks\nBlankets\nPerfume/Cologne\nCandy & Diabetic Candy\nSnacks/pop\nHouse Hold items (toaster\, mixer)\nBatteries (hearing aid)\nGift Cards
X-ALT-DESC;FMTTYPE=text/html:<DIV><SPAN style="FONT-FAMILY: 'Arial'\,'sans-serif'\; FONT-SIZE: 10pt\; mso-fareast-font-family: 'Times New Roman'"><P><SPAN style="FONT-FAMILY: 'Georgia'\,'serif'\; FONT-SIZE: 10pt"><FONT color=#0f0f0f size=3 face=Arial>Join The Network for our annual Merry\, Meet &amp\; Mingle. A tradition every December\, mingle with dozens of YPs while experiencing the fun at CASI (a Network YP Impact Partner). Bring an item for CASI’s “Be a Santa to a Senior” program and earn entry for extra prizes!</FONT></SPAN></SPAN><SPAN style="FONT-FAMILY: 'Arial'\,'sans-serif'\; FONT-SIZE: 10pt\; mso-fareast-font-family: 'Times New Roman'"><FONT size=3><FONT color=#0f0f0f><FONT>&nbsp\;<?xml:namespace prefix = o ns = "urn:schemas-microsoft-com:office:office" /><o:p></o:p></FONT></FONT></FONT></SPAN></P><P style="MARGIN: 0in 0in 0pt" class=MsoNormal><SPAN style="FONT-FAMILY: 'Arial'\,'sans-serif'\; FONT-SIZE: 10pt\; mso-fareast-font-family: 'Times New Roman'"><FONT color=#0f0f0f size=3>This event is sponsored by Estes Construction.</FONT></SPAN></P><P style="MARGIN: 0in 0in 0pt" class=MsoNormal><SPAN style="FONT-FAMILY: 'Arial'\,'sans-serif'\; FONT-SIZE: 10pt\; mso-fareast-font-family: 'Times New Roman'"><FONT color=#0f0f0f face=Arial></FONT></SPAN>&nbsp\;</P><P style="MARGIN: 0in 0in 0pt" class=MsoNormal><SPAN style="FONT-FAMILY: 'Arial'\,'sans-serif'\; FONT-SIZE: 10pt\; mso-fareast-font-family: 'Times New Roman'"></SPAN><SPAN style="FONT-FAMILY: 'Arial'\,'sans-serif'\; FONT-SIZE: 10pt\; mso-fareast-font-family: 'Times New Roman'"><A style="COLOR: blue\; TEXT-DECORATION: underline" title="" dataFld=0:0 href="http://events.quadcitieschamber.com/sbaweb/common/attendees.asp?eventcode=NOON 12/11" target=_self><SPAN style="COLOR: windowtext"><FONT color=#0f0f0f size=3>Click here</FONT></SPAN></A><FONT color=#0f0f0f size=3> to see who has already registered for this event! </FONT></SPAN></P><P style="MARGIN: 0in 0in 0pt" class=MsoNormal><SPAN style="FONT-FAMILY: 'Arial'\,'sans-serif'\; FONT-SIZE: 10pt\; mso-fareast-font-family: 'Times New Roman'"><FONT color=#0f0f0f face=Arial></FONT></SPAN>&nbsp\;</P><SPAN style="FONT-FAMILY: 'Arial'\,'sans-serif'\; FONT-SIZE: 10pt\; mso-fareast-font-family: 'Times New Roman'"><P style="BORDER-BOTTOM: 0px\; BORDER-LEFT: 0px\; PADDING-BOTTOM: 0px\; WIDOWS: 2\; TEXT-TRANSFORM: none\; BACKGROUND-COLOR: rgb(255\,255\,255)\; TEXT-INDENT: 0px\; MARGIN: 0px 0px 18px\; OUTLINE-STYLE: none\; OUTLINE-COLOR: invert\; PADDING-LEFT: 0px\; OUTLINE-WIDTH: 0px\; PADDING-RIGHT: 0px\; FONT: 13px/19px Arial\, sans-serif\; WHITE-SPACE: normal\; ORPHANS: 2\; LETTER-SPACING: normal\; COLOR: rgb(68\,68\,68)\; VERTICAL-ALIGN: baseline\; BORDER-TOP: 0px\; BORDER-RIGHT: 0px\; WORD-SPACING: 0px\; PADDING-TOP: 0px\; -webkit-text-size-adjust: auto\; -webkit-text-stroke-width: 0px"><FONT color=#0f0f0f size=3>The Top Ten items that CASI is in need of are:</FONT></P><P style="BORDER-BOTTOM: 0px\; BORDER-LEFT: 0px\; PADDING-BOTTOM: 0px\; WIDOWS: 2\; TEXT-TRANSFORM: none\; BACKGROUND-COLOR: rgb(255\,255\,255)\; TEXT-INDENT: 0px\; MARGIN: 0px 0px 18px\; OUTLINE-STYLE: none\; OUTLINE-COLOR: invert\; PADDING-LEFT: 0px\; OUTLINE-WIDTH: 0px\; PADDING-RIGHT: 0px\; FONT: 13px/19px Arial\, sans-serif\; WHITE-SPACE: normal\; ORPHANS: 2\; LETTER-SPACING: normal\; COLOR: rgb(68\,68\,68)\; VERTICAL-ALIGN: baseline\; BORDER-TOP: 0px\; BORDER-RIGHT: 0px\; WORD-SPACING: 0px\; PADDING-TOP: 0px\; -webkit-text-size-adjust: auto\; -webkit-text-stroke-width: 0px"><FONT color=#0f0f0f size=3>Shampoo/Conditioner<BR>Body soap<BR>Slippers/Socks<BR>Blankets<BR>Perfume/Cologne<BR>Candy &amp\; Diabetic Candy<BR>Snacks/pop<BR>House Hold items (toaster\, mixer)<BR>Batteries (hearing aid)<BR>Gift Cards</FONT></P><o:p></o:p></SPAN></DIV>
LOCATION:Center for Active Seniors\, Inc.1035 W. Kimberly Rd. Davenport\, IA 52806
UID:e.2843.280
SEQUENCE:3
DTSTAMP:20260421T134437Z
URL:https://member.quadcitieschamber.com/events/details/network-noon-merry-meet-mingle-12-11-2012-280
END:VEVENT

END:VCALENDAR
