BEGIN:VCALENDAR
VERSION:2.0
PRODID:-//ChamberMaster//Event Calendar 2.0//EN
METHOD:PUBLISH
X-PUBLISHED-TTL:P3D
REFRESH-INTERVAL:P3D
CALSCALE:GREGORIAN
BEGIN:VEVENT
DTSTART:20111213T174500Z
DTEND:20111213T190000Z
X-MICROSOFT-CDO-ALLDAYEVENT:FALSE
SUMMARY:Network @ Noon: Merry\, Meet & Mingle
DESCRIPTION:Join us for fun at this month’s Network @ Noon: Merry\, Meet\, & Mingle! Master DJ will be on hand to bring the fun at this energetic event at Jumer's Casino & Hotel. Bring your coworkers and friends and get ready to mingle at this holiday event!This event is sponsored by Estes Construction.
X-ALT-DESC;FMTTYPE=text/html:<FONT size=1 face=AvenirLTStd-Light><FONT size=1 face=AvenirLTStd-Light><P align=left><FONT size=2>Join us for fun at this month’s Network @ Noon: Merry\, Meet\, &amp\; Mingle! Master DJ will be on hand to bring the fun at this energetic event at Jumer's Casino &amp\; Hotel. Bring your coworkers and friends and get ready to mingle at this holiday event!</FONT></P><P align=left><FONT size=2>This event is sponsored by Estes Construction.</FONT></FONT></FONT></P>
LOCATION:Jumer's Casino and Hotel777 Jumer Drive Rock Island\, IL 61201
UID:e.2843.306
SEQUENCE:3
DTSTAMP:20260422T111115Z
URL:https://member.quadcitieschamber.com/events/details/network-noon-merry-meet-mingle-12-13-2011-306
END:VEVENT

END:VCALENDAR
