BEGIN:VCALENDAR
VERSION:2.0
PRODID:-//ChamberMaster//Event Calendar 2.0//EN
METHOD:PUBLISH
X-PUBLISHED-TTL:P3D
REFRESH-INTERVAL:P3D
CALSCALE:GREGORIAN
BEGIN:VEVENT
DTSTART:20130709T164500Z
DTEND:20130709T180000Z
X-MICROSOFT-CDO-ALLDAYEVENT:FALSE
SUMMARY:Network @ Noon: Motivation & Engagement
DESCRIPTION:Attend Network @ Noon for an interactive presentation from Nicole Cline\, Dale Carnegie Training. Nicole’s presentation will focus on how we can stay motivated and motivate those around us. Gain practical tools and techniques that can help you better connect to your coworkers and staff right away. Learn the emotional drivers that influence engagement and value\, and return to work with a new sense of enthusiasm and significance.  This event is sponsored by Thrivent Financial for Lutherans.
X-ALT-DESC;FMTTYPE=text/html:<DIV><P style="MARGIN: 0in 0in 0pt" class=MsoNormal><FONT size=2><FONT face=Georgia><SPAN style="mso-bidi-font-size: 10.0pt">Attend Network @ Noon for an interactive presentation from Nicole Cline\, Dale Carnegie Training. Nicole’s presentation will focus on how we can stay motivated and motivate those around us. </SPAN><SPAN style="COLOR: black\; mso-bidi-font-size: 10.0pt\; mso-bidi-font-family: Arial">Gain practical tools and techniques that can help you better connect to your coworkers and staff right away. </SPAN><SPAN style="mso-bidi-font-size: 10.0pt">Learn the emotional drivers that influence engagement and value\, and return to work with a new sense of enthusiasm and significance. </SPAN></FONT></FONT></P><P style="MARGIN: 0in 0in 0pt" class=MsoNormal><FONT size=2><FONT face=Georgia><SPAN style="mso-bidi-font-size: 10.0pt"></SPAN></FONT></FONT>&nbsp\;</P><P style="MARGIN: 0in 0in 0pt" class=MsoNormal><FONT size=2><FONT face=Georgia><SPAN style="mso-bidi-font-size: 10.0pt">This event is sponsored by Thrivent Financial for Lutherans.</SPAN></FONT></FONT></P></DIV>
LOCATION:Quad Cities River Bandits209 S. Gaines Davenport\, IA 52802
UID:e.2843.613
SEQUENCE:3
DTSTAMP:20260421T152134Z
URL:https://member.quadcitieschamber.com/events/details/network-noon-motivation-engagement-07-09-2013-613
END:VEVENT

END:VCALENDAR
