BEGIN:VCALENDAR
VERSION:2.0
PRODID:-//ChamberMaster//Event Calendar 2.0//EN
METHOD:PUBLISH
X-PUBLISHED-TTL:P3D
REFRESH-INTERVAL:P3D
CALSCALE:GREGORIAN
BEGIN:VEVENT
DTSTART:20170314T164500Z
DTEND:20170314T180000Z
X-MICROSOFT-CDO-ALLDAYEVENT:FALSE
SUMMARY:Network @ Noon - Never Easy\, Always Necessary: Leadership in Challenging Times (03/17)
DESCRIPTION:Rev. Dwight Ford will deliver a powerful message of hope and encouragement for young people to step up and create a community that is welcoming\, inclusive and equitable for all people. Rev. Ford's message will remind YP's that they as individuals have the power to stand up against injustice and create positive change in our communities.\n\n \n\nRemember to register in advance! Registration for this event will close at 8am on Tuesday\, March 14th. Walk-in's will be accepted if space allows. Thank you!\n\n \n\nIf you need any special requirements to attend this meeting please contact \n\nJessica Webb at jwebb@quadcitieschamber.com\n\n\n\nIf you work for a company that is a member of the Chamber\, you are automatically a member of YPQC and attend at YPQC member prices. If your company is not a member of the Chamber\, you can join YPQC separately for $50/year. Contact Greg Aguilar at gaguilar@quadcitieschamber.com or 563.823.2659.\n\n \n\nCancellation Policy:\n\nCancellations must be received at least 72 hours in advance in order to receive a registration refund. You may transfer your registration to another person within your company at no additional cost.
X-ALT-DESC;FMTTYPE=text/html:<span style="font-size:16px\;"><span style="font-family:arial\;"><span style="background-image:initial\;background-position:initial\;background-size:initial\;background-repeat:initial\;background-attachment:initial\;background-origin:initial\;background-clip:initial\;">Rev. Dwight Ford will deliver a powerful message of hope and encouragement for young people to step up and create a community that is welcoming\, inclusive and equitable for all people. Rev. Ford&rsquo\;s message will remind YP&rsquo\;s that they as individuals have the power to stand up against injustice and create positive change in our communities.</span><br />\n&nbsp\;<br />\n<span style="background-image: initial\; background-position: initial\; background-size: initial\; background-repeat: initial\; background-attachment: initial\; background-origin: initial\; background-clip: initial\;">Remember to register in advance! Registration for this event will close at 8am on Tuesday\, March&nbsp\;14th. Walk-in&#39\;s will be accepted if space allows. Thank you!</span><br />\n&nbsp\;<br />\nIf you need any special requirements to attend this meeting please contact&nbsp\;<br />\nJessica Webb&nbsp\;at&nbsp\;<a href="mailto:mlovelady@quadcitieschamber.com">jwebb@quadcitieschamber.com</a><br />\n<br />\n<span style="background-image: initial\; background-position: initial\; background-size: initial\; background-repeat: initial\; background-attachment: initial\; background-origin: initial\; background-clip: initial\;"><span style="color:#141823\;">If you work for a company that is a member of the Chamber\, you are automatically a member of&nbsp\;</span></span><span data-scayt-lang="en_US" data-scayt-word="YPQC" style="background-image: url(">YPQC</span>&nbsp\;and attend at&nbsp\;<span data-scayt-lang="en_US" data-scayt-word="YPQC" style="background-image: url(">YPQC</span>&nbsp\;member prices. If your company is not a member of the Chamber\, you can join&nbsp\;<span data-scayt-lang="en_US" data-scayt-word="YPQC" style="background-image: url(">YPQC</span>&nbsp\;separately for $50/year. Contact Greg Aguilar at&nbsp\;<a href="mailto:gaguilar@quadcitieschamber.com" style="font-size: 16px\;"><span style="background-image:initial\;background-position:initial\;background-size:initial\;background-repeat:initial\;background-attachment:initial\;background-origin:initial\;background-clip:initial\;"><span data-scayt-lang="en_US" data-scayt-word="gaguilar" style="background-image:url(">gaguilar</span>@quadcitieschamber.com</span></a><span style="background-image: initial\; background-position: initial\; background-size: initial\; background-repeat: initial\; background-attachment: initial\; background-origin: initial\; background-clip: initial\;"><span style="color:#141823\;">&nbsp\;or 563.823.2659.</span></span><br />\n&nbsp\;<br />\n<u style="font-size: 16px\;">Cancellation Policy:</u><br />\nCancellations must be received at least 72 hours in advance in order to receive a registration refund. You may transfer your registration to another person within your company at no additional cost.</span></span>
LOCATION:Birchwood Fields Learning Center 4620 East 53rd Street Davenport\, IA 52807
UID:e.2843.4506
SEQUENCE:3
DTSTAMP:20260424T055042Z
URL:https://member.quadcitieschamber.com/events/details/network-noon-never-easy-always-necessary-leadership-in-challenging-times-03-17-4506
END:VEVENT

END:VCALENDAR
