BEGIN:VCALENDAR
VERSION:2.0
PRODID:-//ChamberMaster//Event Calendar 2.0//EN
METHOD:PUBLISH
X-PUBLISHED-TTL:P3D
REFRESH-INTERVAL:P3D
CALSCALE:GREGORIAN
BEGIN:VEVENT
DTSTART:20141014T170000Z
DTEND:20141014T180000Z
X-MICROSOFT-CDO-ALLDAYEVENT:FALSE
SUMMARY:Network @ Noon: October 2014
DESCRIPTION:*Walk-ins are welcome to attend.  Ginny Wilson-Peters\, Integrity Intergrated "Redefining the Responsibility Role of Servant Leadership" Learn more about Ginny here
X-ALT-DESC;FMTTYPE=text/html:<DIV><P style="MARGIN: 0in 0in 0pt" class=MsoNormal><SPAN style="mso-bidi-font-size: 10.0pt"><STRONG></STRONG></SPAN>&nbsp\;</P><P style="MARGIN: 0in 0in 0pt" class=MsoNormal><SPAN style="mso-bidi-font-size: 10.0pt">&nbsp\;*Walk-ins are welcome to attend. </SPAN></P><P style="MARGIN: 0in 0in 0pt" class=MsoNormal><SPAN style="mso-bidi-font-size: 10.0pt"></SPAN>&nbsp\;</P><P style="MARGIN: 0in 0in 0pt" class=MsoNormal><SPAN style="mso-bidi-font-size: 10.0pt"><STRONG>Ginny Wilson-Peters</STRONG>\, Integrity Intergrated</SPAN></P><P style="MARGIN: 0in 0in 0pt" class=MsoNormal><SPAN style="mso-bidi-font-size: 10.0pt"><STRONG></STRONG></SPAN>&nbsp\;</P><P style="MARGIN: 0in 0in 0pt" class=MsoNormal><SPAN style="mso-bidi-font-size: 10.0pt"><SPAN style="FONT-FAMILY: 'Times New Roman'\,'serif'\; COLOR: #000066\; FONT-SIZE: 12pt\; mso-fareast-font-family: Calibri\; mso-fareast-theme-font: minor-latin\; mso-ansi-language: EN-US\; mso-fareast-language: EN-US\; mso-bidi-language: AR-SA"><FONT color=#0f0f0f>"Redefining the Responsibility Role of Servant Leadership"</FONT></SPAN></SPAN></P><P style="MARGIN: 0in 0in 0pt" class=MsoNormal><SPAN style="mso-bidi-font-size: 10.0pt"><SPAN style="FONT-FAMILY: 'Times New Roman'\,'serif'\; COLOR: #000066\; FONT-SIZE: 12pt\; mso-fareast-font-family: Calibri\; mso-fareast-theme-font: minor-latin\; mso-ansi-language: EN-US\; mso-fareast-language: EN-US\; mso-bidi-language: AR-SA"><FONT color=#0f0f0f></FONT></SPAN></SPAN>&nbsp\;</P><P style="MARGIN: 0in 0in 0pt" class=MsoNormal><SPAN style="mso-bidi-font-size: 10.0pt"><SPAN style="FONT-FAMILY: 'Times New Roman'\,'serif'\; COLOR: #000066\; FONT-SIZE: 12pt\; mso-fareast-font-family: Calibri\; mso-fareast-theme-font: minor-latin\; mso-ansi-language: EN-US\; mso-fareast-language: EN-US\; mso-bidi-language: AR-SA"><FONT color=#0f0f0f>Learn more about Ginny <A dataFld=0:0 href="http://integrityintegrated.com/about-us/ginny-wilson-peters">here</A></FONT></SPAN></SPAN></P></DIV>
LOCATION:Moline Public Library3210 41 Street Moline\, IL 61265
UID:e.2843.642
SEQUENCE:3
DTSTAMP:20260422T174023Z
URL:https://member.quadcitieschamber.com/events/details/network-noon-october-2014-10-14-2014-642
END:VEVENT

END:VCALENDAR
