BEGIN:VCALENDAR
VERSION:2.0
PRODID:-//ChamberMaster//Event Calendar 2.0//EN
METHOD:PUBLISH
X-PUBLISHED-TTL:P3D
REFRESH-INTERVAL:P3D
CALSCALE:GREGORIAN
BEGIN:VEVENT
DTSTART:20091110T060000Z
DTEND:20091110T060000Z
X-MICROSOFT-CDO-ALLDAYEVENT:FALSE
SUMMARY:Network @ Noon PREPAID
DESCRIPTION:Network @ Noon  PREPAID
X-ALT-DESC;FMTTYPE=text/html:Network @ Noon  PREPAID
LOCATION:
UID:e.2843.3785
SEQUENCE:3
DTSTAMP:20260424T090221Z
URL:https://member.quadcitieschamber.com/events/details/network-noon-prepaid-11-10-2009-3785
END:VEVENT

END:VCALENDAR
