BEGIN:VCALENDAR
VERSION:2.0
PRODID:-//ChamberMaster//Event Calendar 2.0//EN
METHOD:PUBLISH
X-PUBLISHED-TTL:P3D
REFRESH-INTERVAL:P3D
CALSCALE:GREGORIAN
BEGIN:VEVENT
DTSTART:20130312T164500Z
DTEND:20130312T180000Z
X-MICROSOFT-CDO-ALLDAYEVENT:FALSE
SUMMARY:Network @ Noon: Presentation Skills
DESCRIPTION:Did you know that public speaking usually ranks as America's number one fear\, ahead of spiders\, snakes and dying? Join Linda Wastyn\, PHD\, Wastyn & Associates and Amy Jones\, Mandle Design\, as we discover ways to make presentations interesting\, exciting and informative. Come away with information to include in your presentation\, how to make it relevant to your audience\, best ways to organize your ideas and tips to sounds like a professional.  Location: Jumer's Casino and Hotel (777 Jumer Drive\, Rock Island)Time: Noon-1:00 p.m.Cost: $15 for members\; $20 non-members Sponsor: Farm Bureau Financial Services - Tiffany Lensch
X-ALT-DESC;FMTTYPE=text/html:<DIV><SPAN style="FONT-FAMILY: 'Calibri'\,'sans-serif'\; FONT-SIZE: 11pt\; mso-fareast-font-family: 'Times New Roman'\; mso-bidi-font-family: 'Times New Roman'\; mso-ansi-language: EN-US\; mso-fareast-language: EN-US\; mso-bidi-language: AR-SA"><FONT face=Verdana><FONT size=2><P style="MARGIN: 0in 0in 0pt"><SPAN style="FONT-FAMILY: 'Calibri'\,'sans-serif'\; COLOR: #555555\; FONT-SIZE: 11pt\; mso-bidi-font-family: Arial">Did you know that public speaking usually ranks as America's number one fear\, ahead of spiders\, snakes and dying? Join Linda Wastyn\, PHD\, Wastyn &amp\; Associates and Amy Jones\, Mandle Design\, as we discover ways to make presentations interesting\, exciting and informative. Come away with information to include in your presentation\, how to make it relevant to your audience\, best ways to organize your ideas and tips to sounds like a professional.&nbsp\;</SPAN></P><P style="MARGIN: 0in 0in 0pt"><SPAN style="FONT-FAMILY: 'Calibri'\,'sans-serif'\; COLOR: #555555\; FONT-SIZE: 11pt\; mso-bidi-font-family: Arial"></SPAN><SPAN style="FONT-FAMILY: 'Calibri'\,'sans-serif'\; COLOR: black\; FONT-SIZE: 11pt\; mso-bidi-font-family: Arial"><?xml:namespace prefix = o ns = "urn:schemas-microsoft-com:office:office" /><o:p></o:p></SPAN>&nbsp\;</P></FONT></FONT></SPAN><FONT size=2 face=Verdana><B style="mso-bidi-font-weight: normal"></B></FONT><P style="MARGIN: 0in 0in 0pt" class=MsoNormal><FONT face=Verdana><FONT size=2><B style="mso-bidi-font-weight: normal">Location:</B> Jumer's Casino and Hotel (777 Jumer Drive\, Rock Island)<o:p></o:p></FONT></FONT></P><P style="MARGIN: 0in 0in 0pt" class=MsoNormal><FONT face=Verdana><FONT size=2><B style="mso-bidi-font-weight: normal">Time:</B> Noon-1:00 p.m.<o:p></o:p></FONT></FONT></P><P style="MARGIN: 0in 0in 0pt" class=MsoNormal><FONT face=Verdana><FONT size=2><B style="mso-bidi-font-weight: normal">Cost:</B> $15 for members\; $20 non-members<o:p></o:p></FONT></FONT></P><P style="MARGIN: 0in 0in 0pt" class=MsoNormal><o:p><FONT size=2 face=Verdana>&nbsp\;</FONT></o:p></P><P style="MARGIN: 0in 0in 0pt" class=MsoNormal><FONT face=Verdana><FONT size=2><B style="mso-bidi-font-weight: normal">Sponsor:</B> Farm Bureau Financial Services - Tiffany Lensch<o:p></o:p></FONT></FONT></P></DIV>
LOCATION:Jumer's Casino and Hotel777 Jumer Drive Rock Island\, IL 61201
UID:e.2843.517
SEQUENCE:3
DTSTAMP:20260421T103637Z
URL:https://member.quadcitieschamber.com/events/details/network-noon-presentation-skills-03-12-2013-517
END:VEVENT

END:VCALENDAR
