BEGIN:VCALENDAR
VERSION:2.0
PRODID:-//ChamberMaster//Event Calendar 2.0//EN
METHOD:PUBLISH
X-PUBLISHED-TTL:P3D
REFRESH-INTERVAL:P3D
CALSCALE:GREGORIAN
BEGIN:VEVENT
DTSTART:20111115T174500Z
DTEND:20111115T190000Z
X-MICROSOFT-CDO-ALLDAYEVENT:FALSE
SUMMARY:Network @ Noon: Savings Savvy
DESCRIPTION:This month's Network @ Noon is all about being 'spending savvy' as we approach the holiday season! A representative from DHCU Community Credit Union will be on hand to talk about credit scores and opening new accounts around the holidays and we will also have someone to talk about extreme couponing and how to save on all your purchases during the holidays!  This event is sponsored by DHCU Community Credit Union
X-ALT-DESC;FMTTYPE=text/html:<DIV><P style="MARGIN: 0in 0in 0pt" class=MsoNormal><SPAN style="FONT-FAMILY: 'Times New Roman'\,'serif'\; FONT-SIZE: 12pt">This month's Network @ Noon is all about being 'spending savvy' as we approach the holiday season!&nbsp\;A representative from&nbsp\;DHCU Community Credit Union will be&nbsp\;on hand to talk about credit scores and opening new accounts around the holidays and we will also have someone to talk about extreme couponing and how to save&nbsp\;on all your purchases&nbsp\;during&nbsp\;the holidays! </SPAN></P><P style="MARGIN: 0in 0in 0pt" class=MsoNormal><SPAN style="FONT-FAMILY: 'Times New Roman'\,'serif'\; FONT-SIZE: 12pt"></SPAN>&nbsp\;</P><P style="MARGIN: 0in 0in 0pt" class=MsoNormal><SPAN style="FONT-FAMILY: 'Times New Roman'\,'serif'\; FONT-SIZE: 12pt">This event is sponsored by DHCU Community Credit Union</SPAN></P></DIV>
LOCATION:DHCU Community Credit Union1900 52nd Avenue Moline\, IL 61265
UID:e.2843.284
SEQUENCE:3
DTSTAMP:20260422T111008Z
URL:https://member.quadcitieschamber.com/events/details/network-noon-savings-savvy-11-15-2011-284
END:VEVENT

END:VCALENDAR
