BEGIN:VCALENDAR
VERSION:2.0
PRODID:-//ChamberMaster//Event Calendar 2.0//EN
METHOD:PUBLISH
X-PUBLISHED-TTL:P3D
REFRESH-INTERVAL:P3D
CALSCALE:GREGORIAN
BEGIN:VEVENT
DTSTART:20140909T164500Z
DTEND:20140909T180000Z
X-MICROSOFT-CDO-ALLDAYEVENT:FALSE
SUMMARY:Network @ Noon: Servant Leadership
DESCRIPTION:Servant Leadership Featuring: Ginny Wilson-Peters from Integrity Integrated  Ginny Wilson-Peters from Integrity Integrated will explain why leadership is a choice\, not a position.
X-ALT-DESC;FMTTYPE=text/html:<DIV><P style="MARGIN: 0in 0in 0pt" class=MsoNormal><SPAN style="mso-bidi-font-size: 10.0pt"><SPAN style="FONT-FAMILY: 'Calibri'\,'sans-serif'\; FONT-SIZE: 11pt\; mso-fareast-font-family: Calibri\; mso-fareast-theme-font: minor-latin\; mso-bidi-font-family: 'Times New Roman'\; mso-ansi-language: EN-US\; mso-fareast-language: EN-US\; mso-bidi-language: AR-SA">Servant Leadership </SPAN></SPAN></P><P style="MARGIN: 0in 0in 0pt" class=MsoNormal><SPAN style="mso-bidi-font-size: 10.0pt"><SPAN style="FONT-FAMILY: 'Calibri'\,'sans-serif'\; FONT-SIZE: 11pt\; mso-fareast-font-family: Calibri\; mso-fareast-theme-font: minor-latin\; mso-bidi-font-family: 'Times New Roman'\; mso-ansi-language: EN-US\; mso-fareast-language: EN-US\; mso-bidi-language: AR-SA">Featuring: <SPAN style="FONT-FAMILY: 'Calibri'\,'sans-serif'\; FONT-SIZE: 11pt\; mso-fareast-font-family: Calibri\; mso-fareast-theme-font: minor-latin\; mso-bidi-font-family: 'Times New Roman'\; mso-ansi-language: EN-US\; mso-fareast-language: EN-US\; mso-bidi-language: AR-SA">Ginny Wilson-Peters from Integrity Integrated </SPAN></SPAN></SPAN></P><P style="MARGIN: 0in 0in 0pt" class=MsoNormal><SPAN style="mso-bidi-font-size: 10.0pt"><SPAN style="FONT-FAMILY: 'Calibri'\,'sans-serif'\; FONT-SIZE: 11pt\; mso-fareast-font-family: Calibri\; mso-fareast-theme-font: minor-latin\; mso-bidi-font-family: 'Times New Roman'\; mso-ansi-language: EN-US\; mso-fareast-language: EN-US\; mso-bidi-language: AR-SA"></SPAN></SPAN>&nbsp\;</P><P style="MARGIN: 0in 0in 0pt" class=MsoNormal><SPAN style="mso-bidi-font-size: 10.0pt"><SPAN style="FONT-FAMILY: 'Calibri'\,'sans-serif'\; FONT-SIZE: 11pt\; mso-fareast-font-family: Calibri\; mso-fareast-theme-font: minor-latin\; mso-bidi-font-family: 'Times New Roman'\; mso-ansi-language: EN-US\; mso-fareast-language: EN-US\; mso-bidi-language: AR-SA">Ginny Wilson-Peters from Integrity Integrated will explain why leadership is a choice\, not a position.</SPAN></SPAN></P></DIV>
LOCATION:DHCU Community Credit Union1900 52nd Avenue Moline\, IL 61265
UID:e.2843.641
SEQUENCE:3
DTSTAMP:20260422T155723Z
URL:https://member.quadcitieschamber.com/events/details/network-noon-servant-leadership-09-09-2014-641
END:VEVENT

END:VCALENDAR
