BEGIN:VCALENDAR
VERSION:2.0
PRODID:-//ChamberMaster//Event Calendar 2.0//EN
METHOD:PUBLISH
X-PUBLISHED-TTL:P3D
REFRESH-INTERVAL:P3D
CALSCALE:GREGORIAN
BEGIN:VEVENT
DTSTART:20140211T174500Z
DTEND:20140211T190000Z
X-MICROSOFT-CDO-ALLDAYEVENT:FALSE
SUMMARY:Network @ Noon: Staying Cool Under Hot Conditions
DESCRIPTION:With today’s interconnected markets where news (and rumors) spread quickly\, any professional can suddenly find themselves in the spotlight when news happens. Unfortunately\, many people quickly find they are not prepared to handle the situations thrown at them\, or how to stay composed and concise under pressure. Join dphilms for a hands-on presentation where you’ll understand how to dress\, conduct yourself\, and react accordingly to the myriad of questions you can be hit with. Additionally\, you’ll build a better understanding of how to craft your responses to avoid future PR nightmares. This event is sponsored by Genesis At Work.
X-ALT-DESC;FMTTYPE=text/html:<P style="MARGIN: 0in 0in 0pt" class=MsoNormal><SPAN style="FONT-FAMILY: 'Times'\,'serif'">With today’s interconnected markets where news (and rumors) spread quickly\, any professional can suddenly find themselves in the spotlight when news happens. Unfortunately\, many people quickly find they are not prepared to handle the situations thrown at them\, or how to stay composed and concise under pressure. Join dphilms for a hands-on presentation where you’ll understand how to dress\, conduct yourself\, and react accordingly to the myriad of questions you can be hit with. Additionally\, you’ll build a better understanding of how to craft your responses to avoid future PR nightmares.</SPAN></P><P style="MARGIN: 0in 0in 0pt" class=MsoNormal><SPAN style="FONT-FAMILY: 'Times'\,'serif'"></SPAN>&nbsp\;</P><P style="MARGIN: 0in 0in 0pt" class=MsoNormal><SPAN style="FONT-FAMILY: 'Times'\,'serif'">This event is sponsored by Genesis At Work.</SPAN></P><DIV><P style="MARGIN: 0in 0in 0pt" class=MsoNormal><SPAN style="mso-bidi-font-size: 10.0pt"></SPAN></P></DIV>
LOCATION:Community Health Care2750 11th Street Rock Island\, IL 61201
UID:e.2843.634
SEQUENCE:3
DTSTAMP:20260422T044734Z
URL:https://member.quadcitieschamber.com/events/details/network-noon-staying-cool-under-hot-conditions-02-11-2014-634
END:VEVENT

END:VCALENDAR
