BEGIN:VCALENDAR
VERSION:2.0
PRODID:-//ChamberMaster//Event Calendar 2.0//EN
METHOD:PUBLISH
X-PUBLISHED-TTL:P3D
REFRESH-INTERVAL:P3D
CALSCALE:GREGORIAN
BEGIN:VEVENT
DTSTART:20130108T174500Z
DTEND:20130108T190000Z
X-MICROSOFT-CDO-ALLDAYEVENT:FALSE
SUMMARY:Network @ Noon: The Digital Marketing Sandbox
DESCRIPTION:To get the most out of website\, email\, mobile and social media marketing\, channels cannot be treated like trains running on separate tracks. The best results come when elements of each are integrated into one unified marketing strategy to grow audience\, share content and boost your campaign’s return on investment. Join the TAG Communications team as they illustrate the tools available to get your business on the right digital marketing track. This event is sponsored by R.I.A. Federal Credit Union.
X-ALT-DESC;FMTTYPE=text/html:<DIV><P style="MARGIN: 0in 0in 0pt" class=MsoNormal><SPAN style="mso-bidi-font-size: 10.0pt"><?xml:namespace prefix = o ns = "urn:schemas-microsoft-com:office:office" /><o:p><FONT size=2 face=Georgia>&nbsp\;</FONT></o:p></SPAN></P><P style="MARGIN: 0in 0in 0pt" class=MsoNormal><SPAN style="mso-bidi-font-size: 10.0pt"><FONT size=2><FONT face=Georgia>To get the most out of website\, email\, mobile and social media marketing\, channels cannot be treated like trains running on separate tracks. The best results come when elements of each are integrated into one unified marketing strategy to grow audience\, share content and boost your campaign’s return on investment. Join the TAG Communications team as they illustrate the tools available to get your business on the right digital marketing track.</FONT></FONT></SPAN></P><P style="MARGIN: 0in 0in 0pt" class=MsoNormal><SPAN style="mso-bidi-font-size: 10.0pt"><FONT size=2><FONT face=Georgia></FONT></FONT></SPAN>&nbsp\;</P><P style="MARGIN: 0in 0in 0pt" class=MsoNormal><SPAN style="mso-bidi-font-size: 10.0pt"><FONT size=2><FONT face=Georgia>This event is sponsored by R.I.A. Federal Credit Union.<o:p></o:p></FONT></FONT></SPAN></P></DIV>
LOCATION:Radisson QC Plaza Hotel111 E. 2nd St. Davenport\, IA 52801
UID:e.2843.493
SEQUENCE:3
DTSTAMP:20260421T134541Z
URL:https://member.quadcitieschamber.com/events/details/network-noon-the-digital-marketing-sandbox-01-08-2013-493
END:VEVENT

END:VCALENDAR
