BEGIN:VCALENDAR
VERSION:2.0
PRODID:-//ChamberMaster//Event Calendar 2.0//EN
METHOD:PUBLISH
X-PUBLISHED-TTL:P3D
REFRESH-INTERVAL:P3D
CALSCALE:GREGORIAN
BEGIN:VEVENT
DTSTART:20131105T174500Z
DTEND:20131105T190000Z
X-MICROSOFT-CDO-ALLDAYEVENT:FALSE
SUMMARY:Network @ Noon - The Next Generation: Post-Millennials
DESCRIPTION:Join us for a special Network @ Noon event with PR Network of the Quad Cities featuring guest speaker\, Doug Tschopp! Now that the millennial generation has not only gone to college\, but entered the workforce\, what’s next on the horizon? Is the next generation about technology? The green movement? Self-serving? Career-driven? How do they define success? What traits does this generation have\, and how will they impact the work you do? The presentation will investigate typical traits and explore success with the post-Millennial generation. Doug Tschopp is the Entrepreneurial Center Director at Augustana College. In addition to his director role\, he also teaches public relations and advises student organizations focused on web\, event planning\, and marketing/communications. This event is sponsored by DHCU Community Credit Union\, with food sponsored by Happy Joe's. **If you cannot find parking in the UnityPoint Trinity lot\, please park in the old Country Market lot. UnityPoint will have shuttles to take you to the presentation.
X-ALT-DESC;FMTTYPE=text/html:<DIV><FONT color=#000000 face=Arial>Join us for a special Network @ Noon event with PR Network of the Quad Cities featuring guest speaker\, Doug Tschopp!</FONT></DIV><DIV><FONT color=#000000 face=Arial></FONT>&nbsp\;</DIV><P style="MARGIN: 0in 0in 0pt\; mso-margin-top-alt: auto\; mso-margin-bottom-alt: auto" class=MsoNormal><SPAN style="FONT-FAMILY: 'Arial'\,'sans-serif'\; COLOR: #1f497d\; FONT-SIZE: 11pt"><FONT color=#000000 size=3>Now that the millennial generation has not only gone to college\, but entered the workforce\, what’s next on the horizon? Is the next generation about technology? The green movement? Self-serving? Career-driven? How do they define success? What traits does this generation have\, and how will they impact the work you do? The presentation will investigate typical traits and explore success with the post-Millennial generation.</FONT></SPAN></P><P style="MARGIN: 0in 0in 0pt" class=MsoNormal><FONT color=#000000><FONT size=3><SPAN style="FONT-FAMILY: 'Arial'\,'sans-serif'\; COLOR: #1f497d\; FONT-SIZE: 11pt\; mso-fareast-font-family: 'Times New Roman'">&nbsp\;</SPAN><SPAN style="FONT-FAMILY: 'Microsoft Tai Le'\,'serif'\; FONT-SIZE: 13.5pt\; mso-fareast-font-family: 'Times New Roman'"><?xml:namespace prefix = o ns = "urn:schemas-microsoft-com:office:office" /><o:p></o:p></SPAN></FONT></FONT></P><P style="MARGIN: 0in 0in 0pt\; mso-margin-top-alt: auto\; mso-margin-bottom-alt: auto" class=MsoNormal><SPAN style="FONT-FAMILY: 'Arial'\,'sans-serif'\; COLOR: #1f497d\; FONT-SIZE: 11pt"><FONT color=#000000 size=3>Doug Tschopp is the Entrepreneurial Center Director at Augustana College. In addition to his director role\, he also teaches public relations and advises student organizations focused on web\, event planning\, and marketing/communications.</FONT></SPAN></P><P style="MARGIN: 0in 0in 0pt\; mso-margin-top-alt: auto\; mso-margin-bottom-alt: auto" class=MsoNormal><SPAN style="FONT-FAMILY: 'Arial'\,'sans-serif'\; COLOR: #1f497d\; FONT-SIZE: 11pt"><FONT color=#000000 face=Arial></FONT></SPAN>&nbsp\;</P><P style="MARGIN: 0in 0in 0pt\; mso-margin-top-alt: auto\; mso-margin-bottom-alt: auto" class=MsoNormal><SPAN style="FONT-FAMILY: 'Arial'\,'sans-serif'\; COLOR: #1f497d\; FONT-SIZE: 11pt"><FONT color=#000000 size=3>This event is sponsored by DHCU Community Credit Union\, with food sponsored by Happy Joe's.</FONT></SPAN></P><P style="MARGIN: 0in 0in 0pt\; mso-margin-top-alt: auto\; mso-margin-bottom-alt: auto" class=MsoNormal><SPAN style="FONT-FAMILY: 'Arial'\,'sans-serif'\; COLOR: #1f497d\; FONT-SIZE: 11pt"><FONT color=#000000 face=Arial></FONT></SPAN>&nbsp\;</P><P style="MARGIN: 0in 0in 0pt\; mso-margin-top-alt: auto\; mso-margin-bottom-alt: auto" class=MsoNormal><SPAN style="FONT-FAMILY: 'Arial'\,'sans-serif'\; COLOR: #1f497d\; FONT-SIZE: 11pt"><FONT color=#000000 size=3>**If you cannot find parking in the UnityPoint Trinity lot\, please park in the old Country Market lot. UnityPoint will have shuttles to take you to the presentation. </FONT></SPAN></P><DIV>&nbsp\;</DIV>
LOCATION:UnityPoint Health - Trinity2701 17th Street Rock Island\, IL 61201
UID:e.2843.732
SEQUENCE:3
DTSTAMP:20260421T215702Z
URL:https://member.quadcitieschamber.com/events/details/network-noon-the-next-generation-post-millennials-11-05-2013-732
END:VEVENT

END:VCALENDAR
