BEGIN:VCALENDAR
VERSION:2.0
PRODID:-//ChamberMaster//Event Calendar 2.0//EN
METHOD:PUBLISH
X-PUBLISHED-TTL:P3D
REFRESH-INTERVAL:P3D
CALSCALE:GREGORIAN
BEGIN:VEVENT
DTSTART:20131008T164500Z
DTEND:20131008T180000Z
X-MICROSOFT-CDO-ALLDAYEVENT:FALSE
SUMMARY:Network @ Noon: The Scrappy Brand's Guide to Social Media Marketing on a Budget
DESCRIPTION:"I really want to take our social media program to the next level but I'm not {INSERT GLOBAL BRAND HERE} with a {INSERT SIX-FIGURE DOLLAR AMOUNT} budget." Sound familiar? We've all gotten excited reading case studies or listening to speakers and then slowly deflating as we realize that their their budget is in a very different league than our own. While it's easy to be intimidated\, big brand awareness and budgets don't have to be limiting factors. In fact\, there are several tips and tricks that can bolster your social efforts without breaking the bank. Join Nick Westergaard\, Chief Brand Strategist\, Brand Driven Digital\, for a myth-busting session on why you don't have to be a big brand with a big budget to have a big impact with social media.
X-ALT-DESC;FMTTYPE=text/html:<P style="MARGIN: 0in 0in 0pt" class=MsoNormal><SPAN style="mso-fareast-font-family: 'Times New Roman'\; mso-bidi-font-family: Arial"><FONT size=2><FONT face=Georgia>"I really want to take our social media program to the next level but I'm not {INSERT GLOBAL BRAND HERE} with a {INSERT SIX-FIGURE DOLLAR AMOUNT} budget." Sound familiar? We've all gotten excited reading case studies or listening to speakers and then slowly deflating as we realize that their their budget is in a very different league than our own. While it's easy to be intimidated\, big brand awareness and budgets don't have to be limiting factors. In fact\, there are several tips and tricks that can bolster your social efforts without breaking the bank.&nbsp\;Join&nbsp\;Nick Westergaard\, <SPAN style="FONT-FAMILY: 'Georgia'\,'serif'\; COLOR: black\; FONT-SIZE: 10pt\; mso-fareast-font-family: 'Times New Roman'\; mso-bidi-font-family: Helvetica\; mso-ansi-language: EN-US\; mso-fareast-language: EN-US\; mso-bidi-language: AR-SA">Chief Brand Strategist\, Brand Driven&nbsp\;Digital\,</SPAN>&nbsp\;for a myth-busting session on why you don't have to be a big brand with a big budget to have a big impact with social media.<?xml:namespace prefix = o ns = "urn:schemas-microsoft-com:office:office" /><o:p></o:p></FONT></FONT></SPAN></P><DIV>&nbsp\;</DIV>
LOCATION:DHCU Community Credit Union1900 52nd Avenue Moline\, IL 61265
UID:e.2843.689
SEQUENCE:3
DTSTAMP:20260421T202849Z
URL:https://member.quadcitieschamber.com/events/details/network-noon-the-scrappy-brand-s-guide-to-social-media-marketing-on-a-budget-10-08-2013-689
END:VEVENT

END:VCALENDAR
