BEGIN:VCALENDAR
VERSION:2.0
PRODID:-//ChamberMaster//Event Calendar 2.0//EN
METHOD:PUBLISH
X-PUBLISHED-TTL:P3D
REFRESH-INTERVAL:P3D
CALSCALE:GREGORIAN
BEGIN:VEVENT
DTSTART:20110510T164500Z
DTEND:20110510T180000Z
X-MICROSOFT-CDO-ALLDAYEVENT:FALSE
SUMMARY:Network @ Noon: Trendy Technology Tips
DESCRIPTION:Join The Network as Donnie Ingram\, Instructional Designer at St. Ambrose University\, gets us up to date on the latest technology trends for both office and personal use! Attendees will learn about websites that have useful tools like Doodle and Dropbox\, as well as some new phone apps and cool programs that can assist with Microsoft Outlook and calendars.
X-ALT-DESC;FMTTYPE=text/html:<P class=MsoNormal style="MARGIN: 0in 0in 10pt"><SPAN style="FONT-SIZE: 12pt\; LINE-HEIGHT: 115%\; FONT-FAMILY: 'Times New Roman'\,'serif'">Join The Network as Donnie Ingram\, Instructional Designer at St. Ambrose University\, gets us up to date on the latest technology trends for both office and personal use! Attendees will learn about websites that have useful tools like Doodle and Dropbox\, as well as some new phone apps and cool programs that can assist with Microsoft Outlook and calendars. <?xml:namespace prefix = o ns = "urn:schemas-microsoft-com:office:office" /><o:p></o:p></SPAN></P><P class=MsoNormal style="MARGIN: 0in 0in 10pt"><SPAN style="FONT-SIZE: 12pt\; LINE-HEIGHT: 115%\; FONT-FAMILY: 'Times New Roman'\,'serif'"><o:p>&nbsp\;</o:p></SPAN></P><P class=MsoNormal style="MARGIN: 0in 0in 10pt"><SPAN style="FONT-SIZE: 12pt\; LINE-HEIGHT: 115%\; FONT-FAMILY: 'Times New Roman'\,'serif'"></SPAN></P>
LOCATION:Rhythm City Casino101 W River Drive Davenport\, IA 52801
UID:e.2843.164
SEQUENCE:3
DTSTAMP:20260422T230538Z
URL:https://member.quadcitieschamber.com/events/details/network-noon-trendy-technology-tips-05-10-2011-164
END:VEVENT

END:VCALENDAR
