BEGIN:VCALENDAR
VERSION:2.0
PRODID:-//ChamberMaster//Event Calendar 2.0//EN
METHOD:PUBLISH
X-PUBLISHED-TTL:P3D
REFRESH-INTERVAL:P3D
CALSCALE:GREGORIAN
BEGIN:VEVENT
DTSTART:20120110T174500Z
DTEND:20120110T190000Z
X-MICROSOFT-CDO-ALLDAYEVENT:FALSE
SUMMARY:Network @ Noon - What Is It
DESCRIPTION:All Quad Cities Chamber members are welcome to attend this month's Network @ Noon featuring Nicole Martin of Dale Carnegie Training\, not just young professionals! You feel the impact to your role\, responsibilities\, and work culture but what is causing the changes? Changes in our organizations can shift everything from our reporting structures to job responsibilities to how departments are perceived. Nicole Martin will identify the top trends that are changing business and reveal how they may be impacting you\, your team and organization.  She'll also provide tips on what you can do to stay ahead of them and how to positively respond.   This event is sponsored by R.I.A. Federal Credit Union.
X-ALT-DESC;FMTTYPE=text/html:<P><SPAN></P><P style="MARGIN: 0in 0in 0pt\; FONT-FAMILY: Arial\, Helvetica\, sans-serif\; FONT-SIZE: 10pt" _mce_style="margin: 0in 0in 0pt\; font-family: Arial\, Helvetica\, sans-serif\; font-size: 10pt\;"><FONT size=3 face="Times New Roman"></FONT></P><P style="MARGIN-TOP: 0px\; MARGIN-BOTTOM: 0px" _mce_style="margin-top: 0px\; margin-bottom: 0px\;">All Quad Cities Chamber members are welcome to attend this month's Network @ Noon featuring Nicole Martin of Dale Carnegie Training\, not just young professionals!</P><P style="MARGIN-TOP: 0px\; MARGIN-BOTTOM: 0px" _mce_style="margin-top: 0px\; margin-bottom: 0px\;"><FONT size=4></FONT>&nbsp\;</P><P><SPAN style="FONT-FAMILY: 'Verdana'\,'sans-serif'\; BACKGROUND: white\; COLOR: #333333\; FONT-SIZE: 10pt"><FONT face="Times New Roman"><FONT size=4><FONT size=+0>You feel the impact to your role\, responsibilities\, and work culture but what is causing the changes?&nbsp\;Changes in&nbsp\;our organizations&nbsp\;can shift&nbsp\;everything from our reporting structures to job responsibilities to how departments are perceived.&nbsp\;Nicole Martin&nbsp\;will identify the top trends that are changing business&nbsp\;and reveal how they may be impacting you\, your team and organization.&nbsp\;&nbsp\;She'll&nbsp\;also&nbsp\;provide tips on what you can do to stay ahead of them and how to positively respond.&nbsp\;&nbsp\;<?xml:namespace prefix = o ns = "urn:schemas-microsoft-com:office:office" /><o:p></o:p></FONT></FONT></FONT></SPAN></P></SPAN><P style="MARGIN-TOP: 0px\; MARGIN-BOTTOM: 0px" _mce_style="margin-top: 0px\; margin-bottom: 0px\;"><FONT size=4></FONT>&nbsp\;</P><P style="MARGIN-TOP: 0px\; MARGIN-BOTTOM: 0px" _mce_style="margin-top: 0px\; margin-bottom: 0px\;">This event is sponsored by R.I.A. Federal Credit Union.</P></SPAN>
LOCATION:Radisson QC Plaza Hotel111 E. 2nd St. Davenport\, IA 52801
UID:e.2843.270
SEQUENCE:3
DTSTAMP:20260421T180530Z
URL:https://member.quadcitieschamber.com/events/details/network-noon-what-is-it-01-10-2012-270
END:VEVENT

END:VCALENDAR
