BEGIN:VCALENDAR
VERSION:2.0
PRODID:-//ChamberMaster//Event Calendar 2.0//EN
METHOD:PUBLISH
X-PUBLISHED-TTL:P3D
REFRESH-INTERVAL:P3D
CALSCALE:GREGORIAN
BEGIN:VEVENT
DTSTART:20130910T164500Z
DTEND:20130910T180000Z
X-MICROSOFT-CDO-ALLDAYEVENT:FALSE
SUMMARY:Network @ Noon: Your Social Media Footprint
DESCRIPTION:What does your online presence say about you\, and your business? Chris Glass\, Terrostar\, will give guests insight into why content – both personal and professional - on social platforms like LinkedIn and Facebook is a direct reflection of your organization. Learn the basics of 'smart' social media and how to use platforms as a targeted\, honest\, inexpensive\, brand building\, customer interaction tool that cannot be ignored. This event is sponsored by Rhythm City Casino.
X-ALT-DESC;FMTTYPE=text/html:<DIV><P style="MARGIN: 0in 0in 0pt" class=MsoNormal><SPAN style="BACKGROUND: white\; mso-bidi-font-size: 10.0pt\; mso-bidi-font-family: Arial"><FONT size=2 face=Georgia>What does your online presence say about you\, and your business? Chris Glass\, Terrostar\, will give guests insight into why content – both personal and professional - on social platforms like LinkedIn and Facebook is a direct reflection of your organization. Learn the basics of 'smart' social media and how to use platforms as a targeted\, honest\, inexpensive\, brand building\, customer interaction tool that cannot be ignored.</FONT></SPAN></P><P style="MARGIN: 0in 0in 0pt" class=MsoNormal><SPAN style="BACKGROUND: white\; mso-bidi-font-size: 10.0pt\; mso-bidi-font-family: Arial"><FONT size=2 face=Georgia></FONT></SPAN>&nbsp\;</P><P style="MARGIN: 0in 0in 0pt" class=MsoNormal><SPAN style="BACKGROUND: white\; mso-bidi-font-size: 10.0pt\; mso-bidi-font-family: Arial"><FONT size=2 face=Georgia>This event is sponsored by Rhythm City Casino.</FONT></SPAN><B style="mso-bidi-font-weight: normal"><U><SPAN style="mso-bidi-font-size: 10.0pt"><?xml:namespace prefix = o ns = "urn:schemas-microsoft-com:office:office" /><o:p></o:p></SPAN></U></B></P></DIV>
LOCATION:Rhythm City Casino101 W River Drive Davenport\, IA 52801
UID:e.2843.667
SEQUENCE:3
DTSTAMP:20260421T201743Z
URL:https://member.quadcitieschamber.com/events/details/network-noon-your-social-media-footprint-09-10-2013-667
END:VEVENT

END:VCALENDAR
