BEGIN:VCALENDAR
VERSION:2.0
PRODID:-//ChamberMaster//Event Calendar 2.0//EN
METHOD:PUBLISH
X-PUBLISHED-TTL:P3D
REFRESH-INTERVAL:P3D
CALSCALE:GREGORIAN
BEGIN:VEVENT
DTSTART:20190717T133000Z
DTEND:20190718T213000Z
X-MICROSOFT-CDO-ALLDAYEVENT:FALSE
SUMMARY:NEW! Emotional Intelligence
DESCRIPTION:Emotional Intelligence is your ability (natural or learned) to acquire and apply knowledge from your emotions and the emotions of others. EI is an important trait for professional success. The purpose is to help you make better decisions about what to say or what to do next (or not say or do). This training helps participants to recognize and understand the five competencies that build on each other to raise your EI level: Self-Awareness\, Self-Regulation\, Self-Motivation\, Empathy\, and Effective Relationships
X-ALT-DESC;FMTTYPE=text/html:Emotional Intelligence is your ability (natural or learned) to acquire and apply knowledge from your emotions and the emotions of others. EI is an important trait for professional success. The purpose is to help you make better decisions about what to say or what to do next (or not say or do). This training helps participants to recognize and understand the five competencies that build on each other to raise your EI level: Self-Awareness\, Self-Regulation\, Self-Motivation\, Empathy\, and Effective Relationships
LOCATION:1950 E. 54th St.\, Davenport\, IA 52807
UID:e.2843.14308
SEQUENCE:3
DTSTAMP:20260422T113203Z
URL:https://member.quadcitieschamber.com/events/details/new-emotional-intelligence-14308
END:VEVENT

END:VCALENDAR
