BEGIN:VCALENDAR
VERSION:2.0
PRODID:-//ChamberMaster//Event Calendar 2.0//EN
METHOD:PUBLISH
X-PUBLISHED-TTL:P3D
REFRESH-INTERVAL:P3D
CALSCALE:GREGORIAN
BEGIN:VEVENT
DTSTART:20091111T060000Z
DTEND:20091111T060000Z
X-MICROSOFT-CDO-ALLDAYEVENT:FALSE
SUMMARY:NEW MEMBERS MORNING NETWORK
DESCRIPTION:NEW MEMBERS MORNING NETWORK
X-ALT-DESC;FMTTYPE=text/html:NEW MEMBERS MORNING NETWORK
LOCATION:
UID:e.2843.3794
SEQUENCE:3
DTSTAMP:20260424T090351Z
URL:https://member.quadcitieschamber.com/events/details/new-members-morning-network-11-11-2009-3794
END:VEVENT

END:VCALENDAR
