BEGIN:VCALENDAR
VERSION:2.0
PRODID:-//ChamberMaster//Event Calendar 2.0//EN
METHOD:PUBLISH
X-PUBLISHED-TTL:P3D
REFRESH-INTERVAL:P3D
CALSCALE:GREGORIAN
BEGIN:VEVENT
DTSTART:20110928T050000Z
DTEND:20111201T060000Z
X-MICROSOFT-CDO-ALLDAYEVENT:FALSE
SUMMARY:New Volunteer Incentive - TCB Fall 2011 Campaign
DESCRIPTION:New Volunteer Incentive - TCB Fall 2011 Campaign
X-ALT-DESC;FMTTYPE=text/html:New Volunteer Incentive - TCB Fall 2011 Campaign
LOCATION:
UID:e.2843.4414
SEQUENCE:3
DTSTAMP:20260422T111257Z
URL:https://member.quadcitieschamber.com/events/details/new-volunteer-incentive-tcb-fall-2011-campaign-09-28-2011-4414
END:VEVENT

END:VCALENDAR
