BEGIN:VCALENDAR
VERSION:2.0
PRODID:-//ChamberMaster//Event Calendar 2.0//EN
METHOD:PUBLISH
X-PUBLISHED-TTL:P3D
REFRESH-INTERVAL:P3D
CALSCALE:GREGORIAN
BEGIN:VEVENT
DTSTART:20200101T010000Z
DTEND:20200101T063000Z
X-MICROSOFT-CDO-ALLDAYEVENT:FALSE
SUMMARY:New Year's Eve with Midwest Dueling Pianos
DESCRIPTION:Plan for a night of celebration at The Merrill Hotel this New Year's Eve! We're throwing a grand party and you're invited. Our doors open at 7pm to start the festivities with drinks and hors d'oeuvres. Prepare for the time of your life when Midwest Dueling Pianos take the stage at 9pm! They will be performing a unique and interactive show offering wildly entertaining music and comedy. Join us for the party or purchase the package for a guaranteed safe New Year's celebration.\n\nNEW YEAR'S EVE ITINERARY \n\n\n\n7 pm                  Doors Open\, Live Music by Matt Hepker  \n\n7:30 pm-10 pm    Heavy Hors D'Oeuvres\n\n9 pm-12:30 am    Midwest Dueling Pianos\n\nMidnight            Champagne Toast\, Late Night Sweet Treats\n\n\n\nNEW YEAR'S EVE CELEBRATION\n\n\n	2 Drink Tickets per person\n	Party Favors\n	Heavy Hors D'Oeuvres VIEW MENU\n	Champagne Toast at Midnight\n	Late Night Gourmet Coffee/Hot Cocoa Bar with Assorted Petite Sweets\n	Overnight package also includes breakfast for two (2) on New Year's Day\n\n\nLEARN MORE
X-ALT-DESC;FMTTYPE=text/html:<div>\n<p><span style="font-size:12px">Plan for a night of celebration at The Merrill Hotel this New Year&#39\;s Eve! We&#39\;re throwing a grand party and you&#39\;re invited. Our doors open at 7pm to start the festivities with drinks and hors d&#39\;oeuvres. Prepare for the time of your life when Midwest Dueling Pianos take the stage at 9pm! They will be performing a unique and interactive show offering wildly entertaining music and comedy. Join us for the party or purchase the package for a guaranteed safe New Year&#39\;s celebration.</span></p>\n\n<h3><span style="font-size:12px">NEW YEAR&#39\;S EVE ITINERARY&nbsp\;</span></h3>\n</div>\n\n<div>\n<p><span style="font-size:12px">7 pm&nbsp\; &nbsp\; &nbsp\; &nbsp\; &nbsp\; &nbsp\; &nbsp\; &nbsp\; &nbsp\; Doors Open\, Live Music by Matt Hepker&nbsp\;&nbsp\;<br />\n7:30 pm-10 pm&nbsp\; &nbsp\;&nbsp\;Heavy Hors D&#39\;Oeuvres<br />\n9 pm-12:30 am&nbsp\; &nbsp\;&nbsp\;Midwest Dueling Pianos<br />\nMidnight&nbsp\; &nbsp\; &nbsp\; &nbsp\; &nbsp\; &nbsp\;&nbsp\;Champagne Toast\, Late Night Sweet Treats</span></p>\n</div>\n\n<div>\n<h3><span style="font-size:12px">NEW YEAR&#39\;S EVE CELEBRATION</span></h3>\n\n<ul>\n	<li><span style="font-size:12px">2 Drink Tickets per person</span></li>\n	<li><span style="font-size:12px">Party Favors</span></li>\n	<li><span style="font-size:12px">Heavy Hors D&#39\;Oeuvres&nbsp\;<a href="https://www.themerrill.com//vsites/files/4587/NEW_YEAR'S_EVE_MENU_2019.pdf">VIEW MENU</a></span></li>\n	<li><span style="font-size:12px">Champagne Toast at Midnight</span></li>\n	<li><span style="font-size:12px">Late Night Gourmet Coffee/Hot Cocoa Bar with Assorted Petite Sweets</span></li>\n	<li><span style="font-size:12px"><span style="color:rgb(43\, 48\, 59)\; font-family:lato\,helvetica\,arial\,sans-serif">Overnight package also includes breakfast for two (2) on New Year&rsquo\;s Day</span></span></li>\n</ul>\n</div>\n<span style="font-size:12px"><a href="https://cms.vizergy.com/vsites/widgets/calendar/__PId119569__" style="font-family: &quot\;Trebuchet MS&quot\;\; font-size: 11px\;" target="_blank"><strong>LEARN MORE</strong></a></span>
LOCATION:The Merrill Hotel\, Muscatine\, A Tribute Portfolio Hotel In the Grand Ballroom 119 West Mississippi Drive Muscatine\, IA 52761
UID:e.2843.17101
SEQUENCE:3
DTSTAMP:20260422T015354Z
URL:https://member.quadcitieschamber.com/events/details/new-year-s-eve-with-midwest-dueling-pianos-17101
END:VEVENT

END:VCALENDAR
