BEGIN:VCALENDAR
VERSION:2.0
PRODID:-//ChamberMaster//Event Calendar 2.0//EN
METHOD:PUBLISH
X-PUBLISHED-TTL:P3D
REFRESH-INTERVAL:P3D
CALSCALE:GREGORIAN
BEGIN:VEVENT
DTSTART:20200101T020000Z
DTEND:20200101T080000Z
X-MICROSOFT-CDO-ALLDAYEVENT:FALSE
SUMMARY:New Years 2020 at Renwick Mansion // Moulin Rouge // All Inclusive
DESCRIPTION:Ring in the new year at the historic Renwick Mansion's ALL INCLUSIVE Moulin Rouge themed party! Mingle\, dance\, music\, and photo booth on the main floor\, or venture to the second and third levels for cards and games. NEW THIS YEAR: David Casas will be mingling among the crowd and performing up-close magic for your entertainment! Catered heavy appetizers and desserts. All inclusive drinks: draft beer\, wine\, Tito's vodka\, Seagrams 7 & Jim Beam whiskey\, Captain Morgan & Bacardi Rum\, Seagrams Gin\, and Jose Quervo Tequila. Champagne toast at midnight! Tickets are limited and we expect to sell out again this year!
X-ALT-DESC;FMTTYPE=text/html:Ring in the new year at the historic Renwick Mansion&rsquo\;s ALL INCLUSIVE Moulin Rouge themed party! Mingle\, dance\, music\, and photo booth on the main floor\, or venture to the second and third levels for cards and games. NEW THIS YEAR: David Casas will be mingling among the crowd and performing up-close magic for your entertainment! Catered heavy appetizers and desserts. All inclusive drinks: draft beer\, wine\, Tito&rsquo\;s vodka\, Seagrams 7 &amp\; Jim Beam whiskey\, Captain Morgan &amp\; Bacardi Rum\, Seagrams Gin\, and Jose Quervo Tequila. Champagne toast at midnight! Tickets are limited and we expect to sell out again this year!
LOCATION:The Renwick Mansion 901 Tremont Avenue Davenport\, IA 52803
UID:e.2843.17154
SEQUENCE:3
DTSTAMP:20260422T015722Z
URL:https://member.quadcitieschamber.com/events/details/new-years-2020-at-renwick-mansion-moulin-rouge-all-inclusive-17154
END:VEVENT

END:VCALENDAR
