BEGIN:VCALENDAR
VERSION:2.0
PRODID:-//ChamberMaster//Event Calendar 2.0//EN
METHOD:PUBLISH
X-PUBLISHED-TTL:P3D
REFRESH-INTERVAL:P3D
CALSCALE:GREGORIAN
BEGIN:VEVENT
DTSTART:20170308T151500Z
DTEND:20170308T200000Z
X-MICROSOFT-CDO-ALLDAYEVENT:FALSE
SUMMARY:NEXT '17 QC Business Goes Big in Cloud
DESCRIPTION:March 8 5:30-8:30 pm - the NEXT '17 Extended viewing party at Bettendorf library (https://www.facebook.com/events/419358938410541/) is followed by a kickoff party\, Google and informative business hipster content\, and cosplay/geek/nerd/hipster costume contest at the nerdy hotspot and one of the QC's finest entertainment and gaming attractions\, Analog Arcade Bar. Let's show Google we know how to rock TECH hard in the Quad Cities - a professional party you can't miss! Stay tuned - more parties and events to come in the month of March! \n\n \n\nCost: Free. Drinks extra. 21 and over only. Kickoff @Analog RSVP: https://www.facebook.com/events/1306239579457515/\n\n \n\nAttendees or businesses with social media posts about the event have the possibility of being re-tweeted by Google when they use the hashtag #googlenext17 or by event hosts AMIGA\, Geeky QC\, and KESEF with hashtags #STEAMiowa #STEAMmarch #next17extended #next17extendedQC
X-ALT-DESC;FMTTYPE=text/html:<span style="font-family:arial\;"><span style="font-size:11px\;"><span style="color:#1D2129\;">March 8 5:30-8:30 pm - the NEXT &#39\;17 Extended viewing party at Bettendorf library (</span><a href="https://www.facebook.com/events/419358938410541/" target="_blank">https://www.facebook.com/events/419358938410541/</a>)<span style="color:#1D2129\;"> is followed by a kickoff party\, Google and informative business hipster content\, and cosplay/geek/nerd/hipster costume contest at the nerdy hotspot and one of the QC&#39\;s finest entertainment and gaming attractions\, Analog Arcade Bar. Let&#39\;s show Google we know how to rock TECH hard in the Quad Cities - a professional party you can&#39\;t miss! Stay tuned - more parties and events to come in the month of March! </span><br />\n&nbsp\;<br />\n<span style="color:#1D2129\;">Cost: Free. Drinks extra. 21 and over only. Kickoff @Analog RSVP: </span><a href="https://www.facebook.com/events/1306239579457515/" target="_blank">https://www.facebook.com/events/1306239579457515/</a><br />\n&nbsp\;</span><br />\n<span style="color:#1D2129\;"><span style="font-size:10.0pt\;"><span style="font-size:11px\;">Attendees or businesses with social media posts about the event have the possibility of being re-tweeted by Google when they use the </span>hashtag #googlenext17 or by event hosts AMIGA\, Geeky QC\, and KESEF with hashtags #STEAMiowa #STEAMmarch #next17extended #next17extendedQC</span></span></span>
LOCATION:Bettendorf Public Library Information Center Central Library
UID:e.2843.4725
SEQUENCE:3
DTSTAMP:20260424T055112Z
URL:https://member.quadcitieschamber.com/events/details/next-17-qc-business-goes-big-in-cloud-4725
END:VEVENT

END:VCALENDAR
