BEGIN:VCALENDAR
VERSION:2.0
PRODID:-//ChamberMaster//Event Calendar 2.0//EN
METHOD:PUBLISH
X-PUBLISHED-TTL:P3D
REFRESH-INTERVAL:P3D
CALSCALE:GREGORIAN
BEGIN:VEVENT
DTSTART:20190630T223000Z
DTEND:20190701T003000Z
X-MICROSOFT-CDO-ALLDAYEVENT:FALSE
SUMMARY:NFTS ANGEL AFFAIR
DESCRIPTION:NFTS ANGEL AFFAIR | SUNDAY JUNE 30TH\, 2019\n\nPROUDLY PRESENTED BY: THE GROUP - OBSTETRICS & GYNECOLOGY\, P.C.\n\nPlease join us for our inaugural No Foot Too Small (NFTS) Angel Affair to celebrate and honor Ada Marie Day! \n\nThis will be held on Sunday June 30th\, 2019 from 530-730pm at the UP SkyBar at the Current Hotel in Davenport\, IA!  \n\nThe event will feature a cocktail hour\, hors d'oeuvres\, and live music!  You will hear from Ada's parents - Dr. Lyndsey and Kyle Day\,  Robin Boudreau - Founder of NFTS as well as Angie Kendall of the Genesis Foundation.  \n\nMoney raised at this event will support a very special project - the building of a NFTS Birthing and Bereavement Suite at Genesis East.\n\nWe welcome all family and friends of the Day Family as we celebrate Ada.  We welcome all families experiencing pregnancy and infant loss - for it is our mission to  celebrate your angels.  We welcome the support of like-minded organizations\, businesses and individuals that believe in the same sense of community and our mission to build birthing + bereavement suites.  We welcome all of those who are ready to LEAN IN and to connect with NFTS in a philanthropic way that can generate big things! \n\n\n\nThe Story of Ada Marie Day
X-ALT-DESC;FMTTYPE=text/html:<h4><span style="font-size:16px\;"><span style="font-family:arial\;">NFTS ANGEL AFFAIR | SUNDAY JUNE 30TH\, 2019</span></span></h4>\n\n<h5><span style="font-size:16px\;"><span style="font-family:arial\;">PROUDLY PRESENTED BY: THE GROUP - OBSTETRICS &amp\; GYNECOLOGY\, P.C.</span></span></h5>\n\n<p><span style="font-size:16px\;"><span style="font-family:arial\;">Please join us for our inaugural No Foot Too Small (NFTS)&nbsp\;Angel Affair to celebrate and honor Ada Marie Day!&nbsp\;</span></span></p>\n\n<p><span style="font-size:16px\;"><span style="font-family:arial\;">This&nbsp\;will be held on&nbsp\;Sunday June 30th\, 2019 from 530-730pm at the UP SkyBar at the Current&nbsp\;Hotel in Davenport\, IA!&nbsp\;&nbsp\;</span></span></p>\n\n<p><span style="font-size:16px\;"><span style="font-family:arial\;">The event will feature&nbsp\;a cocktail hour\, hors d&#39\;oeuvres\, and live music!&nbsp\; You will hear from Ada&#39\;s parents - Dr. Lyndsey and Kyle Day\,&nbsp\;&nbsp\;Robin Boudreau - Founder of NFTS as well as Angie Kendall of the Genesis Foundation.&nbsp\;&nbsp\;</span></span></p>\n\n<p><span style="font-size:16px\;"><span style="font-family:arial\;">Money raised at this event will support a very special project - the building of a NFTS Birthing and Bereavement Suite at Genesis East.</span></span></p>\n\n<p><span style="font-size:16px\;"><span style="font-family:arial\;">We welcome all family and friends of the Day Family as we celebrate Ada.&nbsp\; We welcome all families experiencing pregnancy and infant loss - for it is our mission to&nbsp\; celebrate your angels.&nbsp\;&nbsp\;We welcome the support of like-minded organizations\, businesses and individuals that believe in the same sense of community and our mission to build birthing + bereavement suites.&nbsp\; We welcome all of those who are ready to LEAN IN and to connect with NFTS in a philanthropic way that can generate big things!&nbsp\;<br />\n<br />\n<a href="https://www.nofoottoosmall.org/what-we-do/remember/ada-marie-day.html">The Story of Ada Marie Day</a></span></span><br />\n&nbsp\;</p>\n
LOCATION:UP Skybar & Lounge 215 N Main St\, Davenport\, IA 52801
UID:e.2843.15412
SEQUENCE:3
DTSTAMP:20260422T131204Z
URL:https://member.quadcitieschamber.com/events/details/nfts-angel-affair-15412
END:VEVENT

END:VCALENDAR
