BEGIN:VCALENDAR
VERSION:2.0
PRODID:-//ChamberMaster//Event Calendar 2.0//EN
METHOD:PUBLISH
X-PUBLISHED-TTL:P3D
REFRESH-INTERVAL:P3D
CALSCALE:GREGORIAN
BEGIN:VEVENT
DTSTART:20190417T150000Z
DTEND:20190417T160000Z
X-MICROSOFT-CDO-ALLDAYEVENT:FALSE
SUMMARY:Niabi Zoo African Primate Exhibit Opening
DESCRIPTION:Join the Niabi Zoo team to celebrate the opening of the new African Primate Exhibit. See the two new primates -- a 6-year-old Allen Swamp Monkey named Azizi and a 9-year-old Wolf's Guenon named Azul.
X-ALT-DESC;FMTTYPE=text/html:Join the Niabi Zoo team to celebrate the opening of the new African Primate Exhibit. See the two new primates -- a 6-year-old Allen Swamp Monkey named Azizi and a 9-year-old Wolf&rsquo\;s Guenon named Azul.
LOCATION:Niabi Zoo
UID:e.2843.13847
SEQUENCE:3
DTSTAMP:20260422T181921Z
URL:https://member.quadcitieschamber.com/events/details/niabi-zoo-african-primate-exhibit-opening-13847
END:VEVENT

END:VCALENDAR
