BEGIN:VCALENDAR
VERSION:2.0
PRODID:-//ChamberMaster//Event Calendar 2.0//EN
METHOD:PUBLISH
X-PUBLISHED-TTL:P3D
REFRESH-INTERVAL:P3D
CALSCALE:GREGORIAN
BEGIN:VEVENT
DTSTART:20210330T223000Z
DTEND:20210330T233000Z
X-MICROSOFT-CDO-ALLDAYEVENT:FALSE
SUMMARY:North Scott Community YMCA Groundbreaking Ceremony
DESCRIPTION:Please join us to celebrate the groundbreaking of the New North Scott Community YMCA facility!  A collaboration between North Scott Community Schools\, City of Eldridge\, and YMCA of the Iowa Mississippi Valley!  The celebration will be held on Tuesday\, March 30th at 5:30pm\, 104 South Third Avenue\, Eldridge\, Iowa 52748.
X-ALT-DESC;FMTTYPE=text/html:Please join us to celebrate the groundbreaking of the New North Scott Community YMCA facility!&nbsp\; A collaboration between North Scott Community Schools\, City of Eldridge\, and YMCA of the Iowa Mississippi Valley!&nbsp\; The celebration will be held on Tuesday\, March 30th at 5:30pm\, 104 South Third Avenue\, Eldridge\, Iowa 52748.&nbsp\;&nbsp\;
LOCATION:104 South Third Avenue\, Eldridge\, Iowa 52748
UID:e.2843.18785
SEQUENCE:3
DTSTAMP:20260421T032918Z
URL:https://member.quadcitieschamber.com/events/details/north-scott-community-ymca-groundbreaking-ceremony-18785
END:VEVENT

END:VCALENDAR
