BEGIN:VCALENDAR
VERSION:2.0
PRODID:-//ChamberMaster//Event Calendar 2.0//EN
METHOD:PUBLISH
X-PUBLISHED-TTL:P3D
REFRESH-INTERVAL:P3D
CALSCALE:GREGORIAN
BEGIN:VEVENT
DTSTART:20130711T160000Z
DTEND:20130711T163000Z
X-MICROSOFT-CDO-ALLDAYEVENT:FALSE
SUMMARY:NorthPark Mall 40th Anniversary & Ribbon Cutting
DESCRIPTION:Please help NorthPark Mall celebrate their 40th Anniversary on Thursday\, July 11th at 11:00am – Located at 320 West Kimberly Road\, Davenport (Intersection of Harrison/Welcome Way). The Ribbon Cutting ceremony will take place outside the food court entrance between Talbots and Barnes and Noble\, with refreshments and drinks served immediately following the event.
X-ALT-DESC;FMTTYPE=text/html:<P style="MARGIN: 0in 0in 0pt" class=MsoNormal><FONT face=Calibri>Please help NorthPark Mall celebrate their 40<SUP>th</SUP> Anniversary on <B style="mso-bidi-font-weight: normal">Thursday\, July 11<SUP>th</SUP> at 11:00am</B> – Located at 320 West Kimberly Road\, Davenport (Intersection of Harrison/Welcome Way).<?xml:namespace prefix = o ns = "urn:schemas-microsoft-com:office:office" /><o:p></o:p></FONT></P><P style="MARGIN: 0in 0in 0pt" class=MsoNormal><o:p><FONT face=Calibri>&nbsp\;</FONT></o:p></P><P style="MARGIN: 0in 0in 0pt" class=MsoNormal><FONT face=Calibri>The Ribbon Cutting ceremony will take place outside the food court entrance between Talbots and Barnes and Noble\, with refreshments and drinks served immediately following the event.<o:p></o:p></FONT></P><DIV style="FONT-FAMILY: Arial">&nbsp\;</DIV>
LOCATION:Macerich Northpark Mall LLC320 W. Kimberly Rd. Davenport\, IA 52806
UID:e.2843.616
SEQUENCE:3
DTSTAMP:20260421T152454Z
URL:https://member.quadcitieschamber.com/events/details/northpark-mall-40th-anniversary-ribbon-cutting-07-11-2013-616
END:VEVENT

END:VCALENDAR
