BEGIN:VCALENDAR
VERSION:2.0
PRODID:-//ChamberMaster//Event Calendar 2.0//EN
METHOD:PUBLISH
X-PUBLISHED-TTL:P3D
REFRESH-INTERVAL:P3D
CALSCALE:GREGORIAN
BEGIN:VEVENT
DTSTART:20180420T230000Z
DTEND:20180421T010000Z
X-MICROSOFT-CDO-ALLDAYEVENT:FALSE
SUMMARY:NutritionWorks Night In: All Things Food!
DESCRIPTION:Join us at our next NutritionWorks Night In as we talk about ALL THINGS FOOD! We will be learning how to read food labels\, the difference between proteins\, fats\, and carbs\, diet vs. lifestyle\, meal prep\, recipes\, & more! If you would like to be a part of this event\, call the office at (563) 355-4864 today to reserve your seat! RSVP required. Limited seating available.
X-ALT-DESC;FMTTYPE=text/html:<br />\nJoin us at our next NutritionWorks Night In as we talk about ALL THINGS FOOD! We will be learning how to read food labels\, the difference between proteins\, fats\, and carbs\, diet vs. lifestyle\, meal prep\, recipes\, &amp\; more! If you would like to be a part of this event\, call the office at (563) 355-4864 today to reserve your seat! RSVP required. Limited seating available.
LOCATION:2255 Kimberly Road Bettendorf\, IA 52722
UID:e.2843.12120
SEQUENCE:3
DTSTAMP:20260423T123350Z
URL:https://member.quadcitieschamber.com/events/details/nutritionworks-night-in-all-things-food-04-20-2018-12120
END:VEVENT

END:VCALENDAR
