BEGIN:VCALENDAR
VERSION:2.0
PRODID:-//ChamberMaster//Event Calendar 2.0//EN
METHOD:PUBLISH
X-PUBLISHED-TTL:P3D
REFRESH-INTERVAL:P3D
CALSCALE:GREGORIAN
BEGIN:VEVENT
DTSTART:20190823T140000Z
DTEND:20190826T030000Z
X-MICROSOFT-CDO-ALLDAYEVENT:FALSE
SUMMARY:O'Reilly Auto Parts World Series of Drag Racing
DESCRIPTION:Bigger and better than ever\, the 66th annual O'Reilly Auto Parts World Series of Drag Racing at Cordova (Ill.) International Raceway is just one month away on August 23-25\, and tickets are still available. Adult tickets start at $30 for Friday\, $40 for Saturday and $15 for Sunday. Tickets for children 6-12 are $10 for Friday\, $10 for Saturday and $5 for Sunday. A three-day ticket for the entire weekend is available for $75 for adults and $20 for children 6-12. To receive a $5 discount off adult and children admission tickets for Friday\, Saturday and the three-day ticket fans must visit one of the participating O'Reilly Auto Parts stores. Every ticket is a pit pass and includes free parking. General camping is just $40 per weekend. General camping is on a first come\, first served basis. Started in Lawrenceville\, Ill.\, in 1953\, the World Series of Drag Racing has featured many of the world's best drag racers in a family-friendly event. Headliners include Del Worsham\, a former IHRA and NHRA World Champion\, who is one of only three men to win World Championships in Top Fuel and Funny Car\, Dom Lagana\, the fastest driver in IHRA history and two-time IHRA World Champion Bruce Litton Masters of ceremonies are: legendary 17-time world champion "Big Daddy" Don Garlits\, three-time World Champion Shirley Muldowney\, the "First Lady of Drag Racing" and Arnie "The Farmer" Beswick\, a multiple-time national event winner racing everything from factory stockers to supercharged Funny Cars. Exotic racing machines on the schedule include: fire-breathing Jet Cars\, Nostalgia Funny Cars\, Nostalgia Pro Stocks\, Nostalgia Gassers\, Fuel Altereds\, Front-Engine Dragsters\, Wheelstanders\, Pro Mods\, and the Kamper Korner R.V. bracket series. To purchase tickets for The O'Reilly Auto Parts World Series of Drag Racing\, call Cordova International Raceway at 309-654-2110 or visit one of the participating O'Reilly Auto Parts stores.
X-ALT-DESC;FMTTYPE=text/html:Bigger and better than ever\, the 66th annual O&rsquo\;Reilly Auto Parts World Series of Drag Racing at Cordova (Ill.) International Raceway is just one month away on August 23-25\, and tickets are still available. Adult tickets start at $30 for Friday\, $40 for Saturday and $15 for Sunday. Tickets for children 6-12 are $10 for Friday\, $10 for Saturday and $5 for Sunday. A three-day ticket for the entire weekend is available for $75 for adults and $20 for children 6-12. To receive a $5 discount off adult and children admission tickets for Friday\, Saturday and the three-day ticket fans must visit one of the participating O&rsquo\;Reilly Auto Parts stores. Every ticket is a pit pass and includes free parking. General camping is just $40 per weekend. General camping is on a first come\, first served basis. Started in Lawrenceville\, Ill.\, in 1953\, the World Series of Drag Racing has featured many of the world&rsquo\;s best drag racers in a family-friendly event. Headliners include Del Worsham\, a former IHRA and NHRA World Champion\, who is one of only three men to win World Championships in Top Fuel and Funny Car\, Dom Lagana\, the fastest driver in IHRA history and two-time IHRA World Champion Bruce Litton Masters of ceremonies are: legendary 17-time world champion &ldquo\;Big Daddy&rdquo\; Don Garlits\, three-time World Champion Shirley Muldowney\, the &ldquo\;First Lady of Drag Racing&rdquo\; and Arnie &ldquo\;The Farmer&rdquo\; Beswick\, a multiple-time national event winner racing everything from factory stockers to supercharged Funny Cars. Exotic racing machines on the schedule include: fire-breathing Jet Cars\, Nostalgia Funny Cars\, Nostalgia Pro Stocks\, Nostalgia Gassers\, Fuel Altereds\, Front-Engine Dragsters\, Wheelstanders\, Pro Mods\, and the Kamper Korner R.V. bracket series. To purchase tickets for The O&rsquo\;Reilly Auto Parts World Series of Drag Racing\, call Cordova International Raceway at 309-654-2110 or visit one of the participating O&rsquo\;Reilly Auto Parts stores.
LOCATION:Cordova International Raceway Bigger and better than ever\, the 66th annual O'Reilly Auto Parts World Series of Drag Racing at Cordova (Ill.) International Raceway is just one month away on August 23-25\, and tickets are still available. Adult tickets start at $30 for Friday\, $40 for Saturday and $15 for Sunday. Tickets for children 6-12 are $10 for Friday\, $10 for Saturday and $5 for Sunday. A three-day ticket for the entire weekend is available for $75 for adults and $20 for children 6-12. To receive a $5 discount off adult and children admission tickets for Friday\, Saturday and the three-day ticket fans must visit one of the participating O'Reilly Auto Parts stores. Every ticket is a pit pass and includes free parking. General camping is just $40 per weekend. General camping is on a first come\, first served basis. Started in Lawrenceville\, Ill.\, in 1953\, the World Series of Drag Racing has featured many of the world's best drag racers in a family-friendly event. Headliners include Del Worsham\, a former IHRA and NHRA World Champion\, who is one of only three men to win World Championships in Top Fuel and Funny Car\, Dom Lagana\, the fastest driver in IHRA history and two-time IHRA World Champion Bruce Litton Masters of ceremonies are: legendary 17-time world champion "Big Daddy" Don Garlits\, three-time World Champion Shirley Muldowney\, the "First Lady of Drag Racing" and Arnie "The Farmer" Beswick\, a multiple-time national event winner racing everything from factory stockers to supercharged Funny Cars. Exotic racing machines on the schedule include: fire-breathing Jet Cars\, Nostalgia Funny Cars\, Nostalgia Pro Stocks\, Nostalgia Gassers\, Fuel Altereds\, Front-Engine Dragsters\, Wheelstanders\, Pro Mods\, and the Kamper Korner R.V. bracket series. To purchase tickets for The O'Reilly Auto Parts World Series of Drag Racing\, call Cordova International Raceway at 309-654-2110 or visit one of the participating O'Reilly Auto Parts stores.
UID:e.2843.15476
SEQUENCE:3
DTSTAMP:20260422T101244Z
URL:https://member.quadcitieschamber.com/events/details/o-reilly-auto-parts-world-series-of-drag-racing-15476
END:VEVENT

END:VCALENDAR
