BEGIN:VCALENDAR
VERSION:2.0
PRODID:-//ChamberMaster//Event Calendar 2.0//EN
METHOD:PUBLISH
X-PUBLISHED-TTL:P3D
REFRESH-INTERVAL:P3D
CALSCALE:GREGORIAN
BEGIN:VEVENT
DTSTART:20120621T213000Z
DTEND:20120621T230000Z
X-MICROSOFT-CDO-ALLDAYEVENT:FALSE
SUMMARY:Oakwood Country Club Ribbon Cutting
DESCRIPTION:Please help Oakwood Country Club celebrate recent renovations at their Open House/Ribbon Cutting on Thursday\, June 21st at 4:30pm.  Located at 1067 US Hwy 6 ( just out past the Niabi Zoo turn off)  A reception with hors d’oeuvres and beverages will follow the ribbon cutting.  I met with Jacquie Williams\, the Membership Manager\, recently and this is a beautiful facility and golf course! For more information\, please visit www.oakwoodgolf.org
X-ALT-DESC;FMTTYPE=text/html:<DIV style="FONT-FAMILY: Arial"><P style="MARGIN: 0in 0in 0pt" class=MsoNormal><FONT face=Calibri>Please help Oakwood Country Club celebrate recent renovations at their Open House/Ribbon Cutting on Thursday\, June 21<SUP>st</SUP> at 4:30pm.<SPAN style="mso-spacerun: yes">&nbsp\; </SPAN>Located at 1067 US Hwy 6 ( just out past the Niabi Zoo turn off)<SPAN style="mso-spacerun: yes">&nbsp\; </SPAN>A reception with hors d’oeuvres and beverages will follow the ribbon cutting.<SPAN style="mso-spacerun: yes">&nbsp\; </SPAN>I met with Jacquie Williams\, the Membership Manager\, recently and this is a beautiful facility and golf course!</FONT></P><P style="MARGIN: 0in 0in 0pt" class=MsoNormal><?xml:namespace prefix = o ns = "urn:schemas-microsoft-com:office:office" /><o:p><FONT face=Calibri>&nbsp\;</FONT></o:p></P><P style="MARGIN: 0in 0in 0pt" class=MsoNormal><FONT face=Calibri>For more information\, please visit </FONT><A href="http://www.oakwoodgolf.org"><FONT face="Times New Roman">www.oakwoodgolf.org</FONT></A></P></DIV>
LOCATION:Oakwood Country Club1067 US Highway 6 Coal Valley\, IL 61240
UID:e.2843.390
SEQUENCE:3
DTSTAMP:20260421T235627Z
URL:https://member.quadcitieschamber.com/events/details/oakwood-country-club-ribbon-cutting-06-21-2012-390
END:VEVENT

END:VCALENDAR
