BEGIN:VCALENDAR
VERSION:2.0
PRODID:-//ChamberMaster//Event Calendar 2.0//EN
METHOD:PUBLISH
X-PUBLISHED-TTL:P3D
REFRESH-INTERVAL:P3D
CALSCALE:GREGORIAN
BEGIN:VEVENT
DTSTART:20140528T170000Z
DTEND:20140528T180000Z
X-MICROSOFT-CDO-ALLDAYEVENT:FALSE
SUMMARY:Obstetrics & gynecology Specialist\, P.C. (The Group) Grand Opening Ribbon Cutting
DESCRIPTION:The Obstetrics & Gynecology Specialists\, P.C. (The Group)\, located at 5350 Eastern Ave. Davenport\, IA 52807\, will host a ribbon cutting ceremony to celebrate the grand opening of their brand new facility on Wednesday\, May 28th 2014.  This 25\,000 square foot facility will provide regular OB and Gynecological services\, as well as bone density scans for patients with osteoporosis and 3D/4D ultrasounds.  For more information\, please visit www.obgyngroup.com.
X-ALT-DESC;FMTTYPE=text/html:<FONT face=Calibri><P style="MARGIN: 0in 0in 0pt" class=MsoNormal></P><P></FONT></P><FONT face=Calibri><P style="MARGIN: 0in 0in 0pt" class=MsoNormal>The Obstetrics &amp\; Gynecology Specialists\, P.C. (The Group)\, located at 5350 Eastern Ave. Davenport\, IA 52807\, will host a ribbon cutting ceremony to celebrate the grand opening of their brand new facility on Wednesday\, May 28<SUP>th</SUP> 2014. <?xml:namespace prefix = o ns = "urn:schemas-microsoft-com:office:office" /><o:p></o:p></P><P style="MARGIN: 0in 0in 0pt" class=MsoNormal><o:p>&nbsp\;</o:p></P><P style="MARGIN: 0in 0in 0pt" class=MsoNormal>This 25\,000 square foot facility will provide regular OB and Gynecological services\, as well as bone density scans for patients with osteoporosis and 3D/4D ultrasounds. <o:p></o:p></P><P style="MARGIN: 0in 0in 0pt" class=MsoNormal><o:p>&nbsp\;</o:p></P><P style="MARGIN: 0in 0in 0pt" class=MsoNormal>For more information\, please visit <A href="http://www.obgyngroup.com"><FONT color=#0000ff face="Times New Roman">www.obgyngroup.com</FONT></A>.<o:p></o:p></P></FONT>
LOCATION:Obstetrics & Gynecology Specialists\, PC2322 E. Kimberly Rd. Davenport\, IA 52807
UID:e.2843.802
SEQUENCE:3
DTSTAMP:20260422T093804Z
URL:https://member.quadcitieschamber.com/events/details/obstetrics-gynecology-specialist-p-c-the-group-grand-opening-ribbon-cutting-05-28-2014-802
END:VEVENT

END:VCALENDAR
