BEGIN:VCALENDAR
VERSION:2.0
PRODID:-//ChamberMaster//Event Calendar 2.0//EN
METHOD:PUBLISH
X-PUBLISHED-TTL:P3D
REFRESH-INTERVAL:P3D
CALSCALE:GREGORIAN
BEGIN:VEVENT
DTSTART:20091020T050000Z
DTEND:20091020T050000Z
X-MICROSOFT-CDO-ALLDAYEVENT:FALSE
SUMMARY:OCTOBER NEW MEMBERS-none responded
DESCRIPTION:OCTOBER NEW MEMBERS-none responded
X-ALT-DESC;FMTTYPE=text/html:OCTOBER NEW MEMBERS-none responded
LOCATION:
UID:e.2843.3787
SEQUENCE:3
DTSTAMP:20260424T073536Z
URL:https://member.quadcitieschamber.com/events/details/october-new-members-none-responded-10-20-2009-3787
END:VEVENT

END:VCALENDAR
