BEGIN:VCALENDAR
VERSION:2.0
PRODID:-//ChamberMaster//Event Calendar 2.0//EN
METHOD:PUBLISH
X-PUBLISHED-TTL:P3D
REFRESH-INTERVAL:P3D
CALSCALE:GREGORIAN
BEGIN:VEVENT
DTSTART:20140626T210000Z
DTEND:20140626T213000Z
X-MICROSOFT-CDO-ALLDAYEVENT:FALSE
SUMMARY:Oh So Sweet By Tiphanie Ribbon Cutting
DESCRIPTION:Oh So Sweet by Tiphanie\, 314 Main St. Davenport\, IA 52801\, will host a grand opening ribbon cutting on Thursday\, June 26th at 4:00pm.   Oh So Sweet by Tiphanie is a full service bakery that creates all of their baked goods from scratch.  The bakery will be open Monday-Saturday\, from 7:00 a.m. - 5:00 p.m.  For more information\, visit Oh So Sweet by Tiphanie on Facebook https://www.facebook.com/OhSoSweetByTiphanie.
X-ALT-DESC;FMTTYPE=text/html:<FONT face=Calibri><P style="MARGIN: 0in 0in 0pt" class=MsoNormal></P><P style="MARGIN: 0in 0in 0pt" class=MsoNormal>Oh So Sweet by Tiphanie\, 314 Main St. Davenport\, IA 52801\, will host a grand opening ribbon cutting on Thursday\, June 26<SUP>th</SUP> at 4:00pm.<SPAN style="mso-spacerun: yes">&nbsp\; </SPAN><?xml:namespace prefix = o ns = "urn:schemas-microsoft-com:office:office" /><o:p></o:p></P><P style="MARGIN: 0in 0in 0pt" class=MsoNormal><o:p>&nbsp\;</o:p></P><P style="MARGIN: 0in 0in 0pt" class=MsoNormal>Oh So Sweet by Tiphanie is a full service bakery that creates all of their baked goods from scratch.<SPAN style="mso-spacerun: yes">&nbsp\; </SPAN>The bakery will be open Monday-Saturday\, from 7:00 a.m.&nbsp\;- 5:00 p.m.<SPAN style="mso-spacerun: yes">&nbsp\; </SPAN>For more information\, visit Oh So Sweet by Tiphanie on Facebook <A href="https://www.facebook.com/OhSoSweetByTiphanie"><FONT color=#0000ff face="Times New Roman">https://www.facebook.com/OhSoSweetByTiphanie</FONT></A>.<SPAN style="mso-spacerun: yes">&nbsp\; </SPAN><o:p></o:p></P><P></P></FONT>
LOCATION:Oh So Sweet314 Main St. Davenport\, IA 52801
UID:e.2843.815
SEQUENCE:3
DTSTAMP:20260422T111446Z
URL:https://member.quadcitieschamber.com/events/details/oh-so-sweet-by-tiphanie-ribbon-cutting-06-26-2014-815
END:VEVENT

END:VCALENDAR
