BEGIN:VCALENDAR
VERSION:2.0
PRODID:-//ChamberMaster//Event Calendar 2.0//EN
METHOD:PUBLISH
X-PUBLISHED-TTL:P3D
REFRESH-INTERVAL:P3D
CALSCALE:GREGORIAN
BEGIN:VEVENT
DTSTART:20130708T200000Z
DTEND:20130708T203000Z
X-MICROSOFT-CDO-ALLDAYEVENT:FALSE
SUMMARY:Old Chicago Ribbon Cutting
DESCRIPTION:Please help new member Old Chicago celebrate their new renovations on Monday\, July 8th at 3:00pm – Located at 3030 Utica Ridge Road in Bettendorf. Old Chicago now has 110 beers (36 on tap)\, the largest in the Quad Cities! They have a new updated design look as well as an expanded menu selection. Check out www.oldchicago.com for more information.
X-ALT-DESC;FMTTYPE=text/html:<P style="MARGIN: 0in 0in 0pt" class=MsoNormal><SPAN style="mso-ascii-font-family: Calibri\; mso-hansi-font-family: Calibri"><FONT face=Calibri>Please help new member Old Chicago celebrate their new renovations on <B style="mso-bidi-font-weight: normal">Monday\, July 8<SUP>th</SUP> at 3:00pm</B> – Located at 3030 Utica Ridge Road in Bettendorf.<?xml:namespace prefix = o ns = "urn:schemas-microsoft-com:office:office" /><o:p></o:p></FONT></SPAN></P><P style="MARGIN: 0in 0in 0pt" class=MsoNormal><SPAN style="mso-ascii-font-family: Calibri\; mso-hansi-font-family: Calibri"><o:p><FONT face=Calibri>&nbsp\;</FONT></o:p></SPAN></P><P style="MARGIN: 0in 0in 0pt" class=MsoNormal><SPAN style="mso-ascii-font-family: Calibri\; mso-hansi-font-family: Calibri"><FONT face=Calibri>Old Chicago now has 110 beers (36 on tap)\, the largest in the Quad Cities! They have a new updated design look as well as an expanded menu selection.<o:p></o:p></FONT></SPAN></P><P style="MARGIN: 0in 0in 0pt" class=MsoNormal><SPAN style="mso-ascii-font-family: Calibri\; mso-hansi-font-family: Calibri"><o:p><FONT face=Calibri>&nbsp\;</FONT></o:p></SPAN></P><P style="MARGIN: 0in 0in 0pt" class=MsoNormal><SPAN style="mso-ascii-font-family: Calibri\; mso-hansi-font-family: Calibri"><FONT face=Calibri>Check out </FONT><A href="http://www.oldchicago.com"><FONT face=Calibri>www.oldchicago.com</FONT></A><FONT face=Calibri> for more information.<o:p></o:p></FONT></SPAN></P><DIV style="FONT-FAMILY: Arial">&nbsp\;</DIV>
LOCATION:Old Chicago - Bettendorf3030 Utica Ridge Rd. Bettendorf\, IA 52722
UID:e.2843.611
SEQUENCE:3
DTSTAMP:20260421T152302Z
URL:https://member.quadcitieschamber.com/events/details/old-chicago-ribbon-cutting-07-08-2013-611
END:VEVENT

END:VCALENDAR
