BEGIN:VCALENDAR
VERSION:2.0
PRODID:-//ChamberMaster//Event Calendar 2.0//EN
METHOD:PUBLISH
X-PUBLISHED-TTL:P3D
REFRESH-INTERVAL:P3D
CALSCALE:GREGORIAN
BEGIN:VEVENT
DTSTART:20120206T220000Z
DTEND:20120206T230000Z
X-MICROSOFT-CDO-ALLDAYEVENT:FALSE
SUMMARY:On the Avenue Salon Ribbon Cutting
DESCRIPTION:Please help us celebrate new member\, On the Avenue Salon.  The ribbon cutting will take place on Monday\, February 6th at 4pm.  Owner Jim Kernan is planning to have some food catered by  Red Crow Grille. The salon has a combination of over 60 years of experience with the team of nail technicians\, skin care specialists\, colorists and hair stylists.  They are a Paul Mitchell-focused salon\, trained and educated with Paul Mitchell and Sassoon systems.
X-ALT-DESC;FMTTYPE=text/html:<DIV><P style="MARGIN: 0in 0in 0pt" class=MsoNormal><FONT face=Calibri>Please help us celebrate new member\, On the Avenue Salon.<SPAN style="mso-spacerun: yes">&nbsp\; </SPAN>The ribbon cutting will take place on Monday\, February 6<SUP>th</SUP> at 4pm.<SPAN style="mso-spacerun: yes">&nbsp\; </SPAN>Owner Jim Kernan is planning to have some food catered by<SPAN style="mso-spacerun: yes">&nbsp\; </SPAN>Red Crow Grille.</FONT></P><P style="MARGIN: 0in 0in 0pt" class=MsoNormal><?xml:namespace prefix = o ns = "urn:schemas-microsoft-com:office:office" /><o:p><FONT face=Calibri>&nbsp\;</FONT></o:p></P><P style="MARGIN: 0in 0in 0pt" class=MsoNormal><FONT face=Calibri>The salon has a combination of over 60 years of experience with the team of nail technicians\, skin care specialists\, colorists and hair stylists.<SPAN style="mso-spacerun: yes">&nbsp\; </SPAN>They are a Paul Mitchell-focused salon\, trained and educated with Paul Mitchell and Sassoon systems.</FONT></P></DIV>
LOCATION:On the Avenue Salon2484 53rd Ave. Bettendorf\, IA 52722
UID:e.2843.329
SEQUENCE:3
DTSTAMP:20260422T080710Z
URL:https://member.quadcitieschamber.com/events/details/on-the-avenue-salon-ribbon-cutting-02-06-2012-329
END:VEVENT

END:VCALENDAR
