BEGIN:VCALENDAR
VERSION:2.0
PRODID:-//ChamberMaster//Event Calendar 2.0//EN
METHOD:PUBLISH
X-PUBLISHED-TTL:P3D
REFRESH-INTERVAL:P3D
CALSCALE:GREGORIAN
BEGIN:VEVENT
DTSTART:20170807T233000Z
DTEND:20170808T020000Z
X-MICROSOFT-CDO-ALLDAYEVENT:FALSE
SUMMARY:One Step Kids Night at Modern Woodmen Park
DESCRIPTION:Join us for One Step's Kids Night at Modern Woodmen Park to watch the River Bandits play on August 7th. Game time is 6:35pm. Kids 14 and under are FREE with voucher! Vouchers can be picked up at Modern Woodmen park before & on August 7th.\n\n\n\nFor additional information\, please contact Sara Klinefelter at sara@print1step.com.
X-ALT-DESC;FMTTYPE=text/html:Join us for One Step&#39\;s Kids Night at Modern Woodmen Park to watch the River Bandits play on August 7th. Game time is 6:35pm. Kids 14 and under are FREE with voucher! Vouchers can be picked up at Modern Woodmen park before &amp\; on August 7th.<br />\n<br />\nFor additional information\, please contact Sara Klinefelter at sara@print1step.com.
LOCATION:Modern Woodmen Park 209 S Gaines Street Davenport\, Iowa 52802
UID:e.2843.6347
SEQUENCE:3
DTSTAMP:20260423T231435Z
URL:https://member.quadcitieschamber.com/events/details/one-step-kids-night-at-modern-woodmen-park-6347
END:VEVENT

END:VCALENDAR
