BEGIN:VCALENDAR
VERSION:2.0
PRODID:-//ChamberMaster//Event Calendar 2.0//EN
METHOD:PUBLISH
X-PUBLISHED-TTL:P3D
REFRESH-INTERVAL:P3D
CALSCALE:GREGORIAN
BEGIN:VEVENT
DTSTART:20180204T010000Z
DTEND:20180204T040000Z
X-MICROSOFT-CDO-ALLDAYEVENT:FALSE
SUMMARY:One Step Kids Night @ The Mallards Game
DESCRIPTION:Parents and Kids time to score your own hat trick! Pick up a Quad City Mallards reading punch ticket\, read 3 books and join us with a free ticket to the game February 3rd at 7:00pm. Punch tickets available at Mallards office in the new TaxSlayer Center sponsored by 1 Step / One Step
X-ALT-DESC;FMTTYPE=text/html:<br />\n<span style="color:rgb(29\, 33\, 41)\; font-family:sf optimized\,system-ui\,-apple-system\,system-ui\,.sfnstext-regular\,sans-serif\; font-size:14px">Parents and Kids time to score your own hat trick! Pick up a&nbsp\;</span><a class="profileLink" href="https://www.facebook.com/qcmallards/?fref=mentions" style="color: rgb(54\, 88\, 153)\; text-decoration-line: none\; font-family: &quot\;SF Optimized&quot\;\, system-ui\, -apple-system\, system-ui\, &quot\;.SFNSText-Regular&quot\;\, sans-serif\; font-size: 14px\; letter-spacing: -0.12px\;">Quad City Mallards</a><span style="color:rgb(29\, 33\, 41)\; font-family:sf optimized\,system-ui\,-apple-system\,system-ui\,.sfnstext-regular\,sans-serif\; font-size:14px">&nbsp\;reading punch ticket\, read 3 books and join us with a free ticket to the game February 3rd at 7:00pm. Punch tickets available at Mallards office in the new&nbsp\;</span><a class="profileLink" href="https://www.facebook.com/TaxSlayerCenter/?fref=mentions" style="color: rgb(54\, 88\, 153)\; text-decoration-line: none\; font-family: &quot\;SF Optimized&quot\;\, system-ui\, -apple-system\, system-ui\, &quot\;.SFNSText-Regular&quot\;\, sans-serif\; font-size: 14px\; letter-spacing: -0.12px\;">TaxSlayer Center</a><span style="color:rgb(29\, 33\, 41)\; font-family:sf optimized\,system-ui\,-apple-system\,system-ui\,.sfnstext-regular\,sans-serif\; font-size:14px">&nbsp\;sponsored by&nbsp\;</span><a class="profileLink" href="https://www.facebook.com/1stepqc/?fref=mentions" style="color: rgb(54\, 88\, 153)\; text-decoration-line: none\; font-family: &quot\;SF Optimized&quot\;\, system-ui\, -apple-system\, system-ui\, &quot\;.SFNSText-Regular&quot\;\, sans-serif\; font-size: 14px\; letter-spacing: -0.12px\;">1 Step / One Step</a>
LOCATION:TaxSlayer Center 1201 River Drive Moline\, IL 61265
UID:e.2843.9944
SEQUENCE:3
DTSTAMP:20260423T152856Z
URL:https://member.quadcitieschamber.com/events/details/one-step-kids-night-the-mallards-game-9944
END:VEVENT

END:VCALENDAR
