BEGIN:VCALENDAR
VERSION:2.0
PRODID:-//ChamberMaster//Event Calendar 2.0//EN
METHOD:PUBLISH
X-PUBLISHED-TTL:P3D
REFRESH-INTERVAL:P3D
CALSCALE:GREGORIAN
BEGIN:VEVENT
DTSTART:20180908T153000Z
DTEND:20180908T200000Z
X-MICROSOFT-CDO-ALLDAYEVENT:FALSE
SUMMARY:Open House and Blood Drive
DESCRIPTION:
X-ALT-DESC;FMTTYPE=text/html:
LOCATION:US Adventure RV 5120 N. Brady Street Davenport\, IA 52806
UID:e.2843.13397
SEQUENCE:3
DTSTAMP:20260423T043955Z
URL:https://member.quadcitieschamber.com/events/details/open-house-and-blood-drive-13397
END:VEVENT

END:VCALENDAR
