BEGIN:VCALENDAR
VERSION:2.0
PRODID:-//ChamberMaster//Event Calendar 2.0//EN
METHOD:PUBLISH
X-PUBLISHED-TTL:P3D
REFRESH-INTERVAL:P3D
CALSCALE:GREGORIAN
BEGIN:VEVENT
DTSTART:20170219T180000Z
DTEND:20170219T200000Z
X-MICROSOFT-CDO-ALLDAYEVENT:FALSE
SUMMARY:Open House at 501 Brady Lofts
DESCRIPTION:Come and get a sneak peak of our brand new 501 Brady Lofts offering 1 and 2 BR loft style apartments. We will be holding an open house to show off our building even before it is 100% complete. It will be Sunday\, February 19\, 2017 12-2pm. We are also running a lease-up special for this event! We are waiving our application fee and security deposit!! Tell your friends! Come down and check us out on Sunday or call or email for more details!
X-ALT-DESC;FMTTYPE=text/html:Come and get a sneak peak of our brand new 501 Brady Lofts offering 1 and 2 BR loft style apartments. We will be holding an open house to show off our building even before it is 100% complete. It will be Sunday\, February 19\, 2017 12-2pm. We are also running a lease-up special for this event! We are waiving our application fee and security deposit!! Tell your friends! Come down and check us out on Sunday or call or email for more details!
LOCATION:501 Brady Lofts 501 Brady St. Davenport\, IA 52803
UID:e.2843.4705
SEQUENCE:3
DTSTAMP:20260424T070615Z
URL:https://member.quadcitieschamber.com/events/details/open-house-at-501-brady-lofts-4705
END:VEVENT

END:VCALENDAR
