BEGIN:VCALENDAR
VERSION:2.0
PRODID:-//ChamberMaster//Event Calendar 2.0//EN
METHOD:PUBLISH
X-PUBLISHED-TTL:P3D
REFRESH-INTERVAL:P3D
CALSCALE:GREGORIAN
BEGIN:VEVENT
DTSTART:20180921T200000Z
DTEND:20180921T210000Z
X-MICROSOFT-CDO-ALLDAYEVENT:FALSE
SUMMARY:Open House at Humility Homes and Services Shelter
DESCRIPTION:Humility Homes and Services\, Inc. is marking 10 years of providing emergency shelter and supportive services for persons experiencing homelessness. The shelter is the only low-barrier shelter in the Quad Cities providing supportive services for up to 70 persons each night. Please join us for the Open House and refreshments as we renew our commitment to ending homelessness by offering housing opportunities and supportive services in the Greater Quad Cities Area.
X-ALT-DESC;FMTTYPE=text/html:Humility Homes and Services\, Inc. is marking 10 years of providing emergency shelter and supportive services for persons experiencing homelessness. The shelter is the only low-barrier shelter in the Quad Cities providing supportive services for up to 70 persons each night. Please join us for the Open House and refreshments as we renew our commitment to ending homelessness by offering housing opportunities and supportive services in the Greater Quad Cities Area.
LOCATION:1016 W. 5th St. Davenport\, IA 52802
UID:e.2843.13476
SEQUENCE:3
DTSTAMP:20260423T043719Z
URL:https://member.quadcitieschamber.com/events/details/open-house-at-humility-homes-and-services-shelter-13476
END:VEVENT

END:VCALENDAR
