BEGIN:VCALENDAR
VERSION:2.0
PRODID:-//ChamberMaster//Event Calendar 2.0//EN
METHOD:PUBLISH
X-PUBLISHED-TTL:P3D
REFRESH-INTERVAL:P3D
CALSCALE:GREGORIAN
BEGIN:VEVENT
DTSTART:20140521T140000Z
DTEND:20140521T233000Z
X-MICROSOFT-CDO-ALLDAYEVENT:FALSE
SUMMARY:Open Interviews for Driving Positions! No CDL Required!
DESCRIPTION:OPEN INTERVIEWS!\n\nDriver Positions Available To Help Transport Railroad Crews!\n \nWhere: 	QualityInn and Suites\nAddress: 	6605 N. Brady St.\, Davenport\, IA 52806\nDate: 		Wednesday\, May 21st\nTime: 		9 a.m. â€“ 6:30 p.m.\nMust: 		Have a valid driverâ€™s license\; have at least 7 years of driving experience\; a clean driving record\; read\, write\, and converse in English\; be able to pass a background check and a drug screening.\n\nPlease bring 2 forms of government issued identification!\n\nTo learn more about PTI or to apply\, visit us at www.ProfessionalTransportationInc.com or call 1-800-471-2440\, option 1\n \nEOE
X-ALT-DESC;FMTTYPE=text/html:OPEN INTERVIEWS!\n\nDriver Positions Available To Help Transport Railroad Crews!\n \nWhere: 	QualityInn and Suites\nAddress: 	6605 N. Brady St.\, Davenport\, IA 52806\nDate: 		Wednesday\, May 21st\nTime: 		9 a.m. â€“ 6:30 p.m.\nMust: 		Have a valid driverâ€™s license\; have at least 7 years of driving experience\; a clean driving record\; read\, write\, and converse in English\; be able to pass a background check and a drug screening.\n\nPlease bring 2 forms of government issued identification!\n\nTo learn more about PTI or to apply\, visit us at www.ProfessionalTransportationInc.com or call 1-800-471-2440\, option 1\n \nEOE
LOCATION:
UID:e.2843.28
SEQUENCE:3
DTSTAMP:20260422T110117Z
URL:https://member.quadcitieschamber.com/events/details/open-interviews-for-driving-positions-no-cdl-required-05-21-2014-28
END:VEVENT

END:VCALENDAR
